BEGIN:VCALENDAR
VERSION:2.0
PRODID:-//McBride Memorial Library - ECPv6.15.15//NONSGML v1.0//EN
CALSCALE:GREGORIAN
METHOD:PUBLISH
X-ORIGINAL-URL:https://mcbridelibrary.org
X-WR-CALDESC:Events for McBride Memorial Library
REFRESH-INTERVAL;VALUE=DURATION:PT1H
X-Robots-Tag:noindex
X-PUBLISHED-TTL:PT1H
BEGIN:VTIMEZONE
TZID:America/New_York
BEGIN:DAYLIGHT
TZOFFSETFROM:-0500
TZOFFSETTO:-0400
TZNAME:EDT
DTSTART:20250309T070000
END:DAYLIGHT
BEGIN:STANDARD
TZOFFSETFROM:-0400
TZOFFSETTO:-0500
TZNAME:EST
DTSTART:20251102T060000
END:STANDARD
BEGIN:DAYLIGHT
TZOFFSETFROM:-0500
TZOFFSETTO:-0400
TZNAME:EDT
DTSTART:20260308T070000
END:DAYLIGHT
BEGIN:STANDARD
TZOFFSETFROM:-0400
TZOFFSETTO:-0500
TZNAME:EST
DTSTART:20261101T060000
END:STANDARD
BEGIN:DAYLIGHT
TZOFFSETFROM:-0500
TZOFFSETTO:-0400
TZNAME:EDT
DTSTART:20270314T070000
END:DAYLIGHT
BEGIN:STANDARD
TZOFFSETFROM:-0400
TZOFFSETTO:-0500
TZNAME:EST
DTSTART:20271107T060000
END:STANDARD
END:VTIMEZONE
BEGIN:VEVENT
DTSTART;TZID=America/New_York:20260312T140000
DTEND;TZID=America/New_York:20260312T180000
DTSTAMP:20260419T180420
CREATED:20251227T203542Z
LAST-MODIFIED:20251227T203955Z
UID:10005664-1773324000-1773338400@mcbridelibrary.org
SUMMARY:Veterans Heritage Center
DESCRIPTION:The newly established Berwick Area Veteran’s Heritage Center preserves and honors the\nservice of local area active duty military members and veterans. The Center is staffed with\nvolunteers who can provide assistance to veterans and members of the community\, most Mondays and Wednesdays\, 2:00–6:00pm. \n➢ Browse books\, pamphlets and other library materials related to military service\n➢ Submit a photo and a short biography of a veteran’s service to be included in a\nsearchable database of local veterans. Consent is required for living veterans.\n➢ View a list of local service members who died in combat.
URL:https://mcbridelibrary.org/event/veterans-heritage-center-3/2026-03-12/
LOCATION:Veterans Center\, NE corner of library
ATTACH;FMTTYPE=image/png:https://mcbridelibrary.org/wp-content/uploads/2025/10/Estd.-20245.png
ORGANIZER;CN="VHC Coordinator":MAILTO:berwickvhc@gmail.com
END:VEVENT
BEGIN:VEVENT
DTSTART;TZID=America/New_York:20260310T143000
DTEND;TZID=America/New_York:20260310T180000
DTSTAMP:20260419T180420
CREATED:20251227T191413Z
LAST-MODIFIED:20251227T204026Z
UID:10005010-1773153000-1773165600@mcbridelibrary.org
SUMMARY:Veterans Heritage Center
DESCRIPTION:The newly established Berwick Area Veteran’s Heritage Center preserves and honors the\nservice of local area active duty military members and veterans. The Center is staffed with\nvolunteers who can provide assistance to veterans and members of the community\, most Mondays and Wednesdays\, 2:00–6:00pm. \n➢ Browse books\, pamphlets and other library materials related to military service\n➢ Submit a photo and a short biography of a veteran’s service to be included in a\nsearchable database of local veterans. Consent is required for living veterans.\n➢ View a list of local service members who died in combat.
URL:https://mcbridelibrary.org/event/veterans-heritage-center-2/2026-03-10/
LOCATION:Veterans Center\, NE corner of library
ATTACH;FMTTYPE=image/png:https://mcbridelibrary.org/wp-content/uploads/2025/10/Estd.-20245.png
ORGANIZER;CN="VHC Coordinator":MAILTO:berwickvhc@gmail.com
END:VEVENT
BEGIN:VEVENT
DTSTART;TZID=America/New_York:20260305T140000
DTEND;TZID=America/New_York:20260305T180000
DTSTAMP:20260419T180420
CREATED:20251227T203542Z
LAST-MODIFIED:20251227T203955Z
UID:10005663-1772719200-1772733600@mcbridelibrary.org
SUMMARY:Veterans Heritage Center
DESCRIPTION:The newly established Berwick Area Veteran’s Heritage Center preserves and honors the\nservice of local area active duty military members and veterans. The Center is staffed with\nvolunteers who can provide assistance to veterans and members of the community\, most Mondays and Wednesdays\, 2:00–6:00pm. \n➢ Browse books\, pamphlets and other library materials related to military service\n➢ Submit a photo and a short biography of a veteran’s service to be included in a\nsearchable database of local veterans. Consent is required for living veterans.\n➢ View a list of local service members who died in combat.
URL:https://mcbridelibrary.org/event/veterans-heritage-center-3/2026-03-05/
LOCATION:Veterans Center\, NE corner of library
ATTACH;FMTTYPE=image/png:https://mcbridelibrary.org/wp-content/uploads/2025/10/Estd.-20245.png
ORGANIZER;CN="VHC Coordinator":MAILTO:berwickvhc@gmail.com
END:VEVENT
BEGIN:VEVENT
DTSTART;TZID=America/New_York:20260303T143000
DTEND;TZID=America/New_York:20260303T180000
DTSTAMP:20260419T180420
CREATED:20251227T191413Z
LAST-MODIFIED:20251227T204026Z
UID:10005009-1772548200-1772560800@mcbridelibrary.org
SUMMARY:Veterans Heritage Center
DESCRIPTION:The newly established Berwick Area Veteran’s Heritage Center preserves and honors the\nservice of local area active duty military members and veterans. The Center is staffed with\nvolunteers who can provide assistance to veterans and members of the community\, most Mondays and Wednesdays\, 2:00–6:00pm. \n➢ Browse books\, pamphlets and other library materials related to military service\n➢ Submit a photo and a short biography of a veteran’s service to be included in a\nsearchable database of local veterans. Consent is required for living veterans.\n➢ View a list of local service members who died in combat.
URL:https://mcbridelibrary.org/event/veterans-heritage-center-2/2026-03-03/
LOCATION:Veterans Center\, NE corner of library
ATTACH;FMTTYPE=image/png:https://mcbridelibrary.org/wp-content/uploads/2025/10/Estd.-20245.png
ORGANIZER;CN="VHC Coordinator":MAILTO:berwickvhc@gmail.com
END:VEVENT
BEGIN:VEVENT
DTSTART;TZID=America/New_York:20260226T140000
DTEND;TZID=America/New_York:20260226T180000
DTSTAMP:20260419T180420
CREATED:20251227T203542Z
LAST-MODIFIED:20251227T203955Z
UID:10005662-1772114400-1772128800@mcbridelibrary.org
SUMMARY:Veterans Heritage Center
DESCRIPTION:The newly established Berwick Area Veteran’s Heritage Center preserves and honors the\nservice of local area active duty military members and veterans. The Center is staffed with\nvolunteers who can provide assistance to veterans and members of the community\, most Mondays and Wednesdays\, 2:00–6:00pm. \n➢ Browse books\, pamphlets and other library materials related to military service\n➢ Submit a photo and a short biography of a veteran’s service to be included in a\nsearchable database of local veterans. Consent is required for living veterans.\n➢ View a list of local service members who died in combat.
URL:https://mcbridelibrary.org/event/veterans-heritage-center-3/2026-02-26/
LOCATION:Veterans Center\, NE corner of library
ATTACH;FMTTYPE=image/png:https://mcbridelibrary.org/wp-content/uploads/2025/10/Estd.-20245.png
ORGANIZER;CN="VHC Coordinator":MAILTO:berwickvhc@gmail.com
END:VEVENT
BEGIN:VEVENT
DTSTART;TZID=America/New_York:20260224T143000
DTEND;TZID=America/New_York:20260224T180000
DTSTAMP:20260419T180420
CREATED:20251227T191413Z
LAST-MODIFIED:20251227T204026Z
UID:10005008-1771943400-1771956000@mcbridelibrary.org
SUMMARY:Veterans Heritage Center
DESCRIPTION:The newly established Berwick Area Veteran’s Heritage Center preserves and honors the\nservice of local area active duty military members and veterans. The Center is staffed with\nvolunteers who can provide assistance to veterans and members of the community\, most Mondays and Wednesdays\, 2:00–6:00pm. \n➢ Browse books\, pamphlets and other library materials related to military service\n➢ Submit a photo and a short biography of a veteran’s service to be included in a\nsearchable database of local veterans. Consent is required for living veterans.\n➢ View a list of local service members who died in combat.
URL:https://mcbridelibrary.org/event/veterans-heritage-center-2/2026-02-24/
LOCATION:Veterans Center\, NE corner of library
ATTACH;FMTTYPE=image/png:https://mcbridelibrary.org/wp-content/uploads/2025/10/Estd.-20245.png
ORGANIZER;CN="VHC Coordinator":MAILTO:berwickvhc@gmail.com
END:VEVENT
BEGIN:VEVENT
DTSTART;TZID=America/New_York:20260219T140000
DTEND;TZID=America/New_York:20260219T180000
DTSTAMP:20260419T180420
CREATED:20251227T203542Z
LAST-MODIFIED:20251227T203955Z
UID:10005661-1771509600-1771524000@mcbridelibrary.org
SUMMARY:Veterans Heritage Center
DESCRIPTION:The newly established Berwick Area Veteran’s Heritage Center preserves and honors the\nservice of local area active duty military members and veterans. The Center is staffed with\nvolunteers who can provide assistance to veterans and members of the community\, most Mondays and Wednesdays\, 2:00–6:00pm. \n➢ Browse books\, pamphlets and other library materials related to military service\n➢ Submit a photo and a short biography of a veteran’s service to be included in a\nsearchable database of local veterans. Consent is required for living veterans.\n➢ View a list of local service members who died in combat.
URL:https://mcbridelibrary.org/event/veterans-heritage-center-3/2026-02-19/
LOCATION:Veterans Center\, NE corner of library
ATTACH;FMTTYPE=image/png:https://mcbridelibrary.org/wp-content/uploads/2025/10/Estd.-20245.png
ORGANIZER;CN="VHC Coordinator":MAILTO:berwickvhc@gmail.com
END:VEVENT
BEGIN:VEVENT
DTSTART;TZID=America/New_York:20260217T143000
DTEND;TZID=America/New_York:20260217T180000
DTSTAMP:20260419T180420
CREATED:20251227T191413Z
LAST-MODIFIED:20251227T204026Z
UID:10005007-1771338600-1771351200@mcbridelibrary.org
SUMMARY:Veterans Heritage Center
DESCRIPTION:The newly established Berwick Area Veteran’s Heritage Center preserves and honors the\nservice of local area active duty military members and veterans. The Center is staffed with\nvolunteers who can provide assistance to veterans and members of the community\, most Mondays and Wednesdays\, 2:00–6:00pm. \n➢ Browse books\, pamphlets and other library materials related to military service\n➢ Submit a photo and a short biography of a veteran’s service to be included in a\nsearchable database of local veterans. Consent is required for living veterans.\n➢ View a list of local service members who died in combat.
URL:https://mcbridelibrary.org/event/veterans-heritage-center-2/2026-02-17/
LOCATION:Veterans Center\, NE corner of library
ATTACH;FMTTYPE=image/png:https://mcbridelibrary.org/wp-content/uploads/2025/10/Estd.-20245.png
ORGANIZER;CN="VHC Coordinator":MAILTO:berwickvhc@gmail.com
END:VEVENT
BEGIN:VEVENT
DTSTART;TZID=America/New_York:20260212T140000
DTEND;TZID=America/New_York:20260212T180000
DTSTAMP:20260419T180420
CREATED:20251227T203542Z
LAST-MODIFIED:20251227T203955Z
UID:10005660-1770904800-1770919200@mcbridelibrary.org
SUMMARY:Veterans Heritage Center
DESCRIPTION:The newly established Berwick Area Veteran’s Heritage Center preserves and honors the\nservice of local area active duty military members and veterans. The Center is staffed with\nvolunteers who can provide assistance to veterans and members of the community\, most Mondays and Wednesdays\, 2:00–6:00pm. \n➢ Browse books\, pamphlets and other library materials related to military service\n➢ Submit a photo and a short biography of a veteran’s service to be included in a\nsearchable database of local veterans. Consent is required for living veterans.\n➢ View a list of local service members who died in combat.
URL:https://mcbridelibrary.org/event/veterans-heritage-center-3/2026-02-12/
LOCATION:Veterans Center\, NE corner of library
ATTACH;FMTTYPE=image/png:https://mcbridelibrary.org/wp-content/uploads/2025/10/Estd.-20245.png
ORGANIZER;CN="VHC Coordinator":MAILTO:berwickvhc@gmail.com
END:VEVENT
BEGIN:VEVENT
DTSTART;TZID=America/New_York:20260210T143000
DTEND;TZID=America/New_York:20260210T180000
DTSTAMP:20260419T180420
CREATED:20251227T191413Z
LAST-MODIFIED:20251227T204026Z
UID:10005006-1770733800-1770746400@mcbridelibrary.org
SUMMARY:Veterans Heritage Center
DESCRIPTION:The newly established Berwick Area Veteran’s Heritage Center preserves and honors the\nservice of local area active duty military members and veterans. The Center is staffed with\nvolunteers who can provide assistance to veterans and members of the community\, most Mondays and Wednesdays\, 2:00–6:00pm. \n➢ Browse books\, pamphlets and other library materials related to military service\n➢ Submit a photo and a short biography of a veteran’s service to be included in a\nsearchable database of local veterans. Consent is required for living veterans.\n➢ View a list of local service members who died in combat.
URL:https://mcbridelibrary.org/event/veterans-heritage-center-2/2026-02-10/
LOCATION:Veterans Center\, NE corner of library
ATTACH;FMTTYPE=image/png:https://mcbridelibrary.org/wp-content/uploads/2025/10/Estd.-20245.png
ORGANIZER;CN="VHC Coordinator":MAILTO:berwickvhc@gmail.com
END:VEVENT
BEGIN:VEVENT
DTSTART;TZID=America/New_York:20260205T140000
DTEND;TZID=America/New_York:20260205T180000
DTSTAMP:20260419T180420
CREATED:20251227T203542Z
LAST-MODIFIED:20251227T203955Z
UID:10005659-1770300000-1770314400@mcbridelibrary.org
SUMMARY:Veterans Heritage Center
DESCRIPTION:The newly established Berwick Area Veteran’s Heritage Center preserves and honors the\nservice of local area active duty military members and veterans. The Center is staffed with\nvolunteers who can provide assistance to veterans and members of the community\, most Mondays and Wednesdays\, 2:00–6:00pm. \n➢ Browse books\, pamphlets and other library materials related to military service\n➢ Submit a photo and a short biography of a veteran’s service to be included in a\nsearchable database of local veterans. Consent is required for living veterans.\n➢ View a list of local service members who died in combat.
URL:https://mcbridelibrary.org/event/veterans-heritage-center-3/2026-02-05/
LOCATION:Veterans Center\, NE corner of library
ATTACH;FMTTYPE=image/png:https://mcbridelibrary.org/wp-content/uploads/2025/10/Estd.-20245.png
ORGANIZER;CN="VHC Coordinator":MAILTO:berwickvhc@gmail.com
END:VEVENT
BEGIN:VEVENT
DTSTART;TZID=America/New_York:20260203T143000
DTEND;TZID=America/New_York:20260203T180000
DTSTAMP:20260419T180420
CREATED:20251227T191413Z
LAST-MODIFIED:20251227T204026Z
UID:10005005-1770129000-1770141600@mcbridelibrary.org
SUMMARY:Veterans Heritage Center
DESCRIPTION:The newly established Berwick Area Veteran’s Heritage Center preserves and honors the\nservice of local area active duty military members and veterans. The Center is staffed with\nvolunteers who can provide assistance to veterans and members of the community\, most Mondays and Wednesdays\, 2:00–6:00pm. \n➢ Browse books\, pamphlets and other library materials related to military service\n➢ Submit a photo and a short biography of a veteran’s service to be included in a\nsearchable database of local veterans. Consent is required for living veterans.\n➢ View a list of local service members who died in combat.
URL:https://mcbridelibrary.org/event/veterans-heritage-center-2/2026-02-03/
LOCATION:Veterans Center\, NE corner of library
ATTACH;FMTTYPE=image/png:https://mcbridelibrary.org/wp-content/uploads/2025/10/Estd.-20245.png
ORGANIZER;CN="VHC Coordinator":MAILTO:berwickvhc@gmail.com
END:VEVENT
BEGIN:VEVENT
DTSTART;TZID=America/New_York:20260129T140000
DTEND;TZID=America/New_York:20260129T180000
DTSTAMP:20260419T180420
CREATED:20251227T203542Z
LAST-MODIFIED:20251227T203955Z
UID:10005658-1769695200-1769709600@mcbridelibrary.org
SUMMARY:Veterans Heritage Center
DESCRIPTION:The newly established Berwick Area Veteran’s Heritage Center preserves and honors the\nservice of local area active duty military members and veterans. The Center is staffed with\nvolunteers who can provide assistance to veterans and members of the community\, most Mondays and Wednesdays\, 2:00–6:00pm. \n➢ Browse books\, pamphlets and other library materials related to military service\n➢ Submit a photo and a short biography of a veteran’s service to be included in a\nsearchable database of local veterans. Consent is required for living veterans.\n➢ View a list of local service members who died in combat.
URL:https://mcbridelibrary.org/event/veterans-heritage-center-3/2026-01-29/
LOCATION:Veterans Center\, NE corner of library
ATTACH;FMTTYPE=image/png:https://mcbridelibrary.org/wp-content/uploads/2025/10/Estd.-20245.png
ORGANIZER;CN="VHC Coordinator":MAILTO:berwickvhc@gmail.com
END:VEVENT
BEGIN:VEVENT
DTSTART;TZID=America/New_York:20260127T143000
DTEND;TZID=America/New_York:20260127T180000
DTSTAMP:20260419T180420
CREATED:20251227T191413Z
LAST-MODIFIED:20251227T204026Z
UID:10005004-1769524200-1769536800@mcbridelibrary.org
SUMMARY:Veterans Heritage Center
DESCRIPTION:The newly established Berwick Area Veteran’s Heritage Center preserves and honors the\nservice of local area active duty military members and veterans. The Center is staffed with\nvolunteers who can provide assistance to veterans and members of the community\, most Mondays and Wednesdays\, 2:00–6:00pm. \n➢ Browse books\, pamphlets and other library materials related to military service\n➢ Submit a photo and a short biography of a veteran’s service to be included in a\nsearchable database of local veterans. Consent is required for living veterans.\n➢ View a list of local service members who died in combat.
URL:https://mcbridelibrary.org/event/veterans-heritage-center-2/2026-01-27/
LOCATION:Veterans Center\, NE corner of library
ATTACH;FMTTYPE=image/png:https://mcbridelibrary.org/wp-content/uploads/2025/10/Estd.-20245.png
ORGANIZER;CN="VHC Coordinator":MAILTO:berwickvhc@gmail.com
END:VEVENT
BEGIN:VEVENT
DTSTART;TZID=America/New_York:20260122T140000
DTEND;TZID=America/New_York:20260122T180000
DTSTAMP:20260419T180420
CREATED:20251227T203542Z
LAST-MODIFIED:20251227T203955Z
UID:10005657-1769090400-1769104800@mcbridelibrary.org
SUMMARY:Veterans Heritage Center
DESCRIPTION:The newly established Berwick Area Veteran’s Heritage Center preserves and honors the\nservice of local area active duty military members and veterans. The Center is staffed with\nvolunteers who can provide assistance to veterans and members of the community\, most Mondays and Wednesdays\, 2:00–6:00pm. \n➢ Browse books\, pamphlets and other library materials related to military service\n➢ Submit a photo and a short biography of a veteran’s service to be included in a\nsearchable database of local veterans. Consent is required for living veterans.\n➢ View a list of local service members who died in combat.
URL:https://mcbridelibrary.org/event/veterans-heritage-center-3/2026-01-22/
LOCATION:Veterans Center\, NE corner of library
ATTACH;FMTTYPE=image/png:https://mcbridelibrary.org/wp-content/uploads/2025/10/Estd.-20245.png
ORGANIZER;CN="VHC Coordinator":MAILTO:berwickvhc@gmail.com
END:VEVENT
BEGIN:VEVENT
DTSTART;TZID=America/New_York:20260120T143000
DTEND;TZID=America/New_York:20260120T180000
DTSTAMP:20260419T180420
CREATED:20251227T191413Z
LAST-MODIFIED:20251227T204026Z
UID:10005003-1768919400-1768932000@mcbridelibrary.org
SUMMARY:Veterans Heritage Center
DESCRIPTION:The newly established Berwick Area Veteran’s Heritage Center preserves and honors the\nservice of local area active duty military members and veterans. The Center is staffed with\nvolunteers who can provide assistance to veterans and members of the community\, most Mondays and Wednesdays\, 2:00–6:00pm. \n➢ Browse books\, pamphlets and other library materials related to military service\n➢ Submit a photo and a short biography of a veteran’s service to be included in a\nsearchable database of local veterans. Consent is required for living veterans.\n➢ View a list of local service members who died in combat.
URL:https://mcbridelibrary.org/event/veterans-heritage-center-2/2026-01-20/
LOCATION:Veterans Center\, NE corner of library
ATTACH;FMTTYPE=image/png:https://mcbridelibrary.org/wp-content/uploads/2025/10/Estd.-20245.png
ORGANIZER;CN="VHC Coordinator":MAILTO:berwickvhc@gmail.com
END:VEVENT
BEGIN:VEVENT
DTSTART;TZID=America/New_York:20260115T140000
DTEND;TZID=America/New_York:20260115T180000
DTSTAMP:20260419T180420
CREATED:20251227T203542Z
LAST-MODIFIED:20251227T203955Z
UID:10005656-1768485600-1768500000@mcbridelibrary.org
SUMMARY:Veterans Heritage Center
DESCRIPTION:The newly established Berwick Area Veteran’s Heritage Center preserves and honors the\nservice of local area active duty military members and veterans. The Center is staffed with\nvolunteers who can provide assistance to veterans and members of the community\, most Mondays and Wednesdays\, 2:00–6:00pm. \n➢ Browse books\, pamphlets and other library materials related to military service\n➢ Submit a photo and a short biography of a veteran’s service to be included in a\nsearchable database of local veterans. Consent is required for living veterans.\n➢ View a list of local service members who died in combat.
URL:https://mcbridelibrary.org/event/veterans-heritage-center-3/2026-01-15/
LOCATION:Veterans Center\, NE corner of library
ATTACH;FMTTYPE=image/png:https://mcbridelibrary.org/wp-content/uploads/2025/10/Estd.-20245.png
ORGANIZER;CN="VHC Coordinator":MAILTO:berwickvhc@gmail.com
END:VEVENT
BEGIN:VEVENT
DTSTART;TZID=America/New_York:20260113T143000
DTEND;TZID=America/New_York:20260113T180000
DTSTAMP:20260419T180420
CREATED:20251227T191413Z
LAST-MODIFIED:20251227T204026Z
UID:10005002-1768314600-1768327200@mcbridelibrary.org
SUMMARY:Veterans Heritage Center
DESCRIPTION:The newly established Berwick Area Veteran’s Heritage Center preserves and honors the\nservice of local area active duty military members and veterans. The Center is staffed with\nvolunteers who can provide assistance to veterans and members of the community\, most Mondays and Wednesdays\, 2:00–6:00pm. \n➢ Browse books\, pamphlets and other library materials related to military service\n➢ Submit a photo and a short biography of a veteran’s service to be included in a\nsearchable database of local veterans. Consent is required for living veterans.\n➢ View a list of local service members who died in combat.
URL:https://mcbridelibrary.org/event/veterans-heritage-center-2/2026-01-13/
LOCATION:Veterans Center\, NE corner of library
ATTACH;FMTTYPE=image/png:https://mcbridelibrary.org/wp-content/uploads/2025/10/Estd.-20245.png
ORGANIZER;CN="VHC Coordinator":MAILTO:berwickvhc@gmail.com
END:VEVENT
BEGIN:VEVENT
DTSTART;TZID=America/New_York:20260108T140000
DTEND;TZID=America/New_York:20260108T180000
DTSTAMP:20260419T180420
CREATED:20251227T203542Z
LAST-MODIFIED:20251227T203955Z
UID:10005655-1767880800-1767895200@mcbridelibrary.org
SUMMARY:Veterans Heritage Center
DESCRIPTION:The newly established Berwick Area Veteran’s Heritage Center preserves and honors the\nservice of local area active duty military members and veterans. The Center is staffed with\nvolunteers who can provide assistance to veterans and members of the community\, most Mondays and Wednesdays\, 2:00–6:00pm. \n➢ Browse books\, pamphlets and other library materials related to military service\n➢ Submit a photo and a short biography of a veteran’s service to be included in a\nsearchable database of local veterans. Consent is required for living veterans.\n➢ View a list of local service members who died in combat.
URL:https://mcbridelibrary.org/event/veterans-heritage-center-3/2026-01-08/
LOCATION:Veterans Center\, NE corner of library
ATTACH;FMTTYPE=image/png:https://mcbridelibrary.org/wp-content/uploads/2025/10/Estd.-20245.png
ORGANIZER;CN="VHC Coordinator":MAILTO:berwickvhc@gmail.com
END:VEVENT
BEGIN:VEVENT
DTSTART;TZID=America/New_York:20260106T143000
DTEND;TZID=America/New_York:20260106T180000
DTSTAMP:20260419T180420
CREATED:20251227T191413Z
LAST-MODIFIED:20251227T204026Z
UID:10005001-1767709800-1767722400@mcbridelibrary.org
SUMMARY:Veterans Heritage Center
DESCRIPTION:The newly established Berwick Area Veteran’s Heritage Center preserves and honors the\nservice of local area active duty military members and veterans. The Center is staffed with\nvolunteers who can provide assistance to veterans and members of the community\, most Mondays and Wednesdays\, 2:00–6:00pm. \n➢ Browse books\, pamphlets and other library materials related to military service\n➢ Submit a photo and a short biography of a veteran’s service to be included in a\nsearchable database of local veterans. Consent is required for living veterans.\n➢ View a list of local service members who died in combat.
URL:https://mcbridelibrary.org/event/veterans-heritage-center-2/2026-01-06/
LOCATION:Veterans Center\, NE corner of library
ATTACH;FMTTYPE=image/png:https://mcbridelibrary.org/wp-content/uploads/2025/10/Estd.-20245.png
ORGANIZER;CN="VHC Coordinator":MAILTO:berwickvhc@gmail.com
END:VEVENT
END:VCALENDAR