BEGIN:VCALENDAR
VERSION:2.0
PRODID:-//McBride Memorial Library - ECPv6.15.15//NONSGML v1.0//EN
CALSCALE:GREGORIAN
METHOD:PUBLISH
X-WR-CALNAME:McBride Memorial Library
X-ORIGINAL-URL:https://mcbridelibrary.org
X-WR-CALDESC:Events for McBride Memorial Library
REFRESH-INTERVAL;VALUE=DURATION:PT1H
X-Robots-Tag:noindex
X-PUBLISHED-TTL:PT1H
BEGIN:VTIMEZONE
TZID:America/New_York
BEGIN:DAYLIGHT
TZOFFSETFROM:-0500
TZOFFSETTO:-0400
TZNAME:EDT
DTSTART:20250309T070000
END:DAYLIGHT
BEGIN:STANDARD
TZOFFSETFROM:-0400
TZOFFSETTO:-0500
TZNAME:EST
DTSTART:20251102T060000
END:STANDARD
BEGIN:DAYLIGHT
TZOFFSETFROM:-0500
TZOFFSETTO:-0400
TZNAME:EDT
DTSTART:20260308T070000
END:DAYLIGHT
BEGIN:STANDARD
TZOFFSETFROM:-0400
TZOFFSETTO:-0500
TZNAME:EST
DTSTART:20261101T060000
END:STANDARD
BEGIN:DAYLIGHT
TZOFFSETFROM:-0500
TZOFFSETTO:-0400
TZNAME:EDT
DTSTART:20270314T070000
END:DAYLIGHT
BEGIN:STANDARD
TZOFFSETFROM:-0400
TZOFFSETTO:-0500
TZNAME:EST
DTSTART:20271107T060000
END:STANDARD
END:VTIMEZONE
BEGIN:VEVENT
DTSTART;TZID=America/New_York:20260330T113000
DTEND;TZID=America/New_York:20260330T123000
DTSTAMP:20260421T062642
CREATED:20251227T212121Z
LAST-MODIFIED:20251227T212121Z
UID:10006339-1774870200-1774873800@mcbridelibrary.org
SUMMARY:StoryTime
DESCRIPTION:Traditional story time with read aloud\, songs\, fingerplays\, and movement.
URL:https://mcbridelibrary.org/event/storytime/2026-03-30/
LOCATION:Children’s Library\, second floor
ATTACH;FMTTYPE=image/png:https://mcbridelibrary.org/wp-content/uploads/2025/06/Storytime-1.png
END:VEVENT
BEGIN:VEVENT
DTSTART;TZID=America/New_York:20260326T113000
DTEND;TZID=America/New_York:20260326T123000
DTSTAMP:20260421T062642
CREATED:20251227T212329Z
LAST-MODIFIED:20260126T212401Z
UID:10006352-1774524600-1774528200@mcbridelibrary.org
SUMMARY:StoryTime
DESCRIPTION:Traditional story time with read aloud\, songs\, fingerplays\, and movement.
URL:https://mcbridelibrary.org/event/storytime-2/2026-03-26/
LOCATION:Children’s Library\, second floor
ATTACH;FMTTYPE=image/png:https://mcbridelibrary.org/wp-content/uploads/2026/01/Your-paragraph-text-1.png
END:VEVENT
BEGIN:VEVENT
DTSTART;TZID=America/New_York:20260323T160000
DTEND;TZID=America/New_York:20260323T170000
DTSTAMP:20260421T062642
CREATED:20250430T015518Z
LAST-MODIFIED:20251227T184826Z
UID:10004929-1774281600-1774285200@mcbridelibrary.org
SUMMARY:Books & Barkers
DESCRIPTION:Dogs LOVE to be read to and they are very good listeners. Take time to build literacy skills\, confidence\, and patience with a therapy dog at the library. \nAges 5–12 \n4:00–5:00pm \n  \n 
URL:https://mcbridelibrary.org/event/books-barkers-2/2026-03-23/
LOCATION:Children’s Library\, second floor
ATTACH;FMTTYPE=image/png:https://mcbridelibrary.org/wp-content/uploads/2025/04/rsz_1booksnbarkerslogo.png
END:VEVENT
BEGIN:VEVENT
DTSTART;TZID=America/New_York:20260323T113000
DTEND;TZID=America/New_York:20260323T123000
DTSTAMP:20260421T062642
CREATED:20251227T212121Z
LAST-MODIFIED:20251227T212121Z
UID:10006338-1774265400-1774269000@mcbridelibrary.org
SUMMARY:StoryTime
DESCRIPTION:Traditional story time with read aloud\, songs\, fingerplays\, and movement.
URL:https://mcbridelibrary.org/event/storytime/2026-03-23/
LOCATION:Children’s Library\, second floor
ATTACH;FMTTYPE=image/png:https://mcbridelibrary.org/wp-content/uploads/2025/06/Storytime-1.png
END:VEVENT
BEGIN:VEVENT
DTSTART;TZID=America/New_York:20260319T113000
DTEND;TZID=America/New_York:20260319T123000
DTSTAMP:20260421T062642
CREATED:20251227T212329Z
LAST-MODIFIED:20260126T212401Z
UID:10006351-1773919800-1773923400@mcbridelibrary.org
SUMMARY:StoryTime
DESCRIPTION:Traditional story time with read aloud\, songs\, fingerplays\, and movement.
URL:https://mcbridelibrary.org/event/storytime-2/2026-03-19/
LOCATION:Children’s Library\, second floor
ATTACH;FMTTYPE=image/png:https://mcbridelibrary.org/wp-content/uploads/2026/01/Your-paragraph-text-1.png
END:VEVENT
BEGIN:VEVENT
DTSTART;TZID=America/New_York:20260316T160000
DTEND;TZID=America/New_York:20260316T170000
DTSTAMP:20260421T062642
CREATED:20250430T015518Z
LAST-MODIFIED:20251227T184826Z
UID:10004928-1773676800-1773680400@mcbridelibrary.org
SUMMARY:Books & Barkers
DESCRIPTION:Dogs LOVE to be read to and they are very good listeners. Take time to build literacy skills\, confidence\, and patience with a therapy dog at the library. \nAges 5–12 \n4:00–5:00pm \n  \n 
URL:https://mcbridelibrary.org/event/books-barkers-2/2026-03-16/
LOCATION:Children’s Library\, second floor
ATTACH;FMTTYPE=image/png:https://mcbridelibrary.org/wp-content/uploads/2025/04/rsz_1booksnbarkerslogo.png
END:VEVENT
BEGIN:VEVENT
DTSTART;TZID=America/New_York:20260316T113000
DTEND;TZID=America/New_York:20260316T123000
DTSTAMP:20260421T062642
CREATED:20251227T212121Z
LAST-MODIFIED:20251227T212121Z
UID:10006337-1773660600-1773664200@mcbridelibrary.org
SUMMARY:StoryTime
DESCRIPTION:Traditional story time with read aloud\, songs\, fingerplays\, and movement.
URL:https://mcbridelibrary.org/event/storytime/2026-03-16/
LOCATION:Children’s Library\, second floor
ATTACH;FMTTYPE=image/png:https://mcbridelibrary.org/wp-content/uploads/2025/06/Storytime-1.png
END:VEVENT
BEGIN:VEVENT
DTSTART;TZID=America/New_York:20260312T113000
DTEND;TZID=America/New_York:20260312T123000
DTSTAMP:20260421T062642
CREATED:20251227T212329Z
LAST-MODIFIED:20260126T212401Z
UID:10006350-1773315000-1773318600@mcbridelibrary.org
SUMMARY:StoryTime
DESCRIPTION:Traditional story time with read aloud\, songs\, fingerplays\, and movement.
URL:https://mcbridelibrary.org/event/storytime-2/2026-03-12/
LOCATION:Children’s Library\, second floor
ATTACH;FMTTYPE=image/png:https://mcbridelibrary.org/wp-content/uploads/2026/01/Your-paragraph-text-1.png
END:VEVENT
BEGIN:VEVENT
DTSTART;TZID=America/New_York:20260309T160000
DTEND;TZID=America/New_York:20260309T170000
DTSTAMP:20260421T062642
CREATED:20250430T015518Z
LAST-MODIFIED:20251227T184826Z
UID:10004927-1773072000-1773075600@mcbridelibrary.org
SUMMARY:Books & Barkers
DESCRIPTION:Dogs LOVE to be read to and they are very good listeners. Take time to build literacy skills\, confidence\, and patience with a therapy dog at the library. \nAges 5–12 \n4:00–5:00pm \n  \n 
URL:https://mcbridelibrary.org/event/books-barkers-2/2026-03-09/
LOCATION:Children’s Library\, second floor
ATTACH;FMTTYPE=image/png:https://mcbridelibrary.org/wp-content/uploads/2025/04/rsz_1booksnbarkerslogo.png
END:VEVENT
BEGIN:VEVENT
DTSTART;TZID=America/New_York:20260309T113000
DTEND;TZID=America/New_York:20260309T123000
DTSTAMP:20260421T062642
CREATED:20251227T212121Z
LAST-MODIFIED:20251227T212121Z
UID:10006336-1773055800-1773059400@mcbridelibrary.org
SUMMARY:StoryTime
DESCRIPTION:Traditional story time with read aloud\, songs\, fingerplays\, and movement.
URL:https://mcbridelibrary.org/event/storytime/2026-03-09/
LOCATION:Children’s Library\, second floor
ATTACH;FMTTYPE=image/png:https://mcbridelibrary.org/wp-content/uploads/2025/06/Storytime-1.png
END:VEVENT
BEGIN:VEVENT
DTSTART;TZID=America/New_York:20260305T113000
DTEND;TZID=America/New_York:20260305T123000
DTSTAMP:20260421T062642
CREATED:20251227T212329Z
LAST-MODIFIED:20260126T212401Z
UID:10006349-1772710200-1772713800@mcbridelibrary.org
SUMMARY:StoryTime
DESCRIPTION:Traditional story time with read aloud\, songs\, fingerplays\, and movement.
URL:https://mcbridelibrary.org/event/storytime-2/2026-03-05/
LOCATION:Children’s Library\, second floor
ATTACH;FMTTYPE=image/png:https://mcbridelibrary.org/wp-content/uploads/2026/01/Your-paragraph-text-1.png
END:VEVENT
BEGIN:VEVENT
DTSTART;TZID=America/New_York:20260302T160000
DTEND;TZID=America/New_York:20260302T170000
DTSTAMP:20260421T062642
CREATED:20250430T015518Z
LAST-MODIFIED:20251227T184826Z
UID:10004926-1772467200-1772470800@mcbridelibrary.org
SUMMARY:Books & Barkers
DESCRIPTION:Dogs LOVE to be read to and they are very good listeners. Take time to build literacy skills\, confidence\, and patience with a therapy dog at the library. \nAges 5–12 \n4:00–5:00pm \n  \n 
URL:https://mcbridelibrary.org/event/books-barkers-2/2026-03-02/
LOCATION:Children’s Library\, second floor
ATTACH;FMTTYPE=image/png:https://mcbridelibrary.org/wp-content/uploads/2025/04/rsz_1booksnbarkerslogo.png
END:VEVENT
BEGIN:VEVENT
DTSTART;TZID=America/New_York:20260302T113000
DTEND;TZID=America/New_York:20260302T123000
DTSTAMP:20260421T062642
CREATED:20251227T212121Z
LAST-MODIFIED:20251227T212121Z
UID:10006335-1772451000-1772454600@mcbridelibrary.org
SUMMARY:StoryTime
DESCRIPTION:Traditional story time with read aloud\, songs\, fingerplays\, and movement.
URL:https://mcbridelibrary.org/event/storytime/2026-03-02/
LOCATION:Children’s Library\, second floor
ATTACH;FMTTYPE=image/png:https://mcbridelibrary.org/wp-content/uploads/2025/06/Storytime-1.png
END:VEVENT
BEGIN:VEVENT
DTSTART;TZID=America/New_York:20260226T113000
DTEND;TZID=America/New_York:20260226T123000
DTSTAMP:20260421T062642
CREATED:20251227T212329Z
LAST-MODIFIED:20260126T212401Z
UID:10006348-1772105400-1772109000@mcbridelibrary.org
SUMMARY:StoryTime
DESCRIPTION:Traditional story time with read aloud\, songs\, fingerplays\, and movement.
URL:https://mcbridelibrary.org/event/storytime-2/2026-02-26/
LOCATION:Children’s Library\, second floor
ATTACH;FMTTYPE=image/png:https://mcbridelibrary.org/wp-content/uploads/2026/01/Your-paragraph-text-1.png
END:VEVENT
BEGIN:VEVENT
DTSTART;TZID=America/New_York:20260223T160000
DTEND;TZID=America/New_York:20260223T170000
DTSTAMP:20260421T062642
CREATED:20250430T015518Z
LAST-MODIFIED:20251227T184826Z
UID:10004925-1771862400-1771866000@mcbridelibrary.org
SUMMARY:Books & Barkers
DESCRIPTION:Dogs LOVE to be read to and they are very good listeners. Take time to build literacy skills\, confidence\, and patience with a therapy dog at the library. \nAges 5–12 \n4:00–5:00pm \n  \n 
URL:https://mcbridelibrary.org/event/books-barkers-2/2026-02-23/
LOCATION:Children’s Library\, second floor
ATTACH;FMTTYPE=image/png:https://mcbridelibrary.org/wp-content/uploads/2025/04/rsz_1booksnbarkerslogo.png
END:VEVENT
BEGIN:VEVENT
DTSTART;TZID=America/New_York:20260223T113000
DTEND;TZID=America/New_York:20260223T123000
DTSTAMP:20260421T062642
CREATED:20251227T212121Z
LAST-MODIFIED:20251227T212121Z
UID:10006334-1771846200-1771849800@mcbridelibrary.org
SUMMARY:StoryTime
DESCRIPTION:Traditional story time with read aloud\, songs\, fingerplays\, and movement.
URL:https://mcbridelibrary.org/event/storytime/2026-02-23/
LOCATION:Children’s Library\, second floor
ATTACH;FMTTYPE=image/png:https://mcbridelibrary.org/wp-content/uploads/2025/06/Storytime-1.png
END:VEVENT
BEGIN:VEVENT
DTSTART;TZID=America/New_York:20260219T113000
DTEND;TZID=America/New_York:20260219T123000
DTSTAMP:20260421T062642
CREATED:20251227T212329Z
LAST-MODIFIED:20260126T212401Z
UID:10006347-1771500600-1771504200@mcbridelibrary.org
SUMMARY:StoryTime
DESCRIPTION:Traditional story time with read aloud\, songs\, fingerplays\, and movement.
URL:https://mcbridelibrary.org/event/storytime-2/2026-02-19/
LOCATION:Children’s Library\, second floor
ATTACH;FMTTYPE=image/png:https://mcbridelibrary.org/wp-content/uploads/2026/01/Your-paragraph-text-1.png
END:VEVENT
BEGIN:VEVENT
DTSTART;TZID=America/New_York:20260216T160000
DTEND;TZID=America/New_York:20260216T170000
DTSTAMP:20260421T062642
CREATED:20250430T015518Z
LAST-MODIFIED:20251227T184826Z
UID:10004924-1771257600-1771261200@mcbridelibrary.org
SUMMARY:Books & Barkers
DESCRIPTION:Dogs LOVE to be read to and they are very good listeners. Take time to build literacy skills\, confidence\, and patience with a therapy dog at the library. \nAges 5–12 \n4:00–5:00pm \n  \n 
URL:https://mcbridelibrary.org/event/books-barkers-2/2026-02-16/
LOCATION:Children’s Library\, second floor
ATTACH;FMTTYPE=image/png:https://mcbridelibrary.org/wp-content/uploads/2025/04/rsz_1booksnbarkerslogo.png
END:VEVENT
BEGIN:VEVENT
DTSTART;TZID=America/New_York:20260216T113000
DTEND;TZID=America/New_York:20260216T123000
DTSTAMP:20260421T062642
CREATED:20251227T212121Z
LAST-MODIFIED:20251227T212121Z
UID:10006333-1771241400-1771245000@mcbridelibrary.org
SUMMARY:StoryTime
DESCRIPTION:Traditional story time with read aloud\, songs\, fingerplays\, and movement.
URL:https://mcbridelibrary.org/event/storytime/2026-02-16/
LOCATION:Children’s Library\, second floor
ATTACH;FMTTYPE=image/png:https://mcbridelibrary.org/wp-content/uploads/2025/06/Storytime-1.png
END:VEVENT
BEGIN:VEVENT
DTSTART;TZID=America/New_York:20260212T113000
DTEND;TZID=America/New_York:20260212T123000
DTSTAMP:20260421T062642
CREATED:20251227T212329Z
LAST-MODIFIED:20260126T212401Z
UID:10006346-1770895800-1770899400@mcbridelibrary.org
SUMMARY:StoryTime
DESCRIPTION:Traditional story time with read aloud\, songs\, fingerplays\, and movement.
URL:https://mcbridelibrary.org/event/storytime-2/2026-02-12/
LOCATION:Children’s Library\, second floor
ATTACH;FMTTYPE=image/png:https://mcbridelibrary.org/wp-content/uploads/2026/01/Your-paragraph-text-1.png
END:VEVENT
BEGIN:VEVENT
DTSTART;TZID=America/New_York:20260209T160000
DTEND;TZID=America/New_York:20260209T170000
DTSTAMP:20260421T062642
CREATED:20250430T015518Z
LAST-MODIFIED:20251227T184826Z
UID:10004923-1770652800-1770656400@mcbridelibrary.org
SUMMARY:Books & Barkers
DESCRIPTION:Dogs LOVE to be read to and they are very good listeners. Take time to build literacy skills\, confidence\, and patience with a therapy dog at the library. \nAges 5–12 \n4:00–5:00pm \n  \n 
URL:https://mcbridelibrary.org/event/books-barkers-2/2026-02-09/
LOCATION:Children’s Library\, second floor
ATTACH;FMTTYPE=image/png:https://mcbridelibrary.org/wp-content/uploads/2025/04/rsz_1booksnbarkerslogo.png
END:VEVENT
BEGIN:VEVENT
DTSTART;TZID=America/New_York:20260209T113000
DTEND;TZID=America/New_York:20260209T123000
DTSTAMP:20260421T062642
CREATED:20251227T212121Z
LAST-MODIFIED:20251227T212121Z
UID:10006332-1770636600-1770640200@mcbridelibrary.org
SUMMARY:StoryTime
DESCRIPTION:Traditional story time with read aloud\, songs\, fingerplays\, and movement.
URL:https://mcbridelibrary.org/event/storytime/2026-02-09/
LOCATION:Children’s Library\, second floor
ATTACH;FMTTYPE=image/png:https://mcbridelibrary.org/wp-content/uploads/2025/06/Storytime-1.png
END:VEVENT
BEGIN:VEVENT
DTSTART;TZID=America/New_York:20260205T113000
DTEND;TZID=America/New_York:20260205T123000
DTSTAMP:20260421T062642
CREATED:20251227T212329Z
LAST-MODIFIED:20260126T212401Z
UID:10006345-1770291000-1770294600@mcbridelibrary.org
SUMMARY:StoryTime
DESCRIPTION:Traditional story time with read aloud\, songs\, fingerplays\, and movement.
URL:https://mcbridelibrary.org/event/storytime-2/2026-02-05/
LOCATION:Children’s Library\, second floor
ATTACH;FMTTYPE=image/png:https://mcbridelibrary.org/wp-content/uploads/2026/01/Your-paragraph-text-1.png
END:VEVENT
BEGIN:VEVENT
DTSTART;TZID=America/New_York:20260202T160000
DTEND;TZID=America/New_York:20260202T170000
DTSTAMP:20260421T062642
CREATED:20250430T015518Z
LAST-MODIFIED:20251227T184826Z
UID:10004922-1770048000-1770051600@mcbridelibrary.org
SUMMARY:Books & Barkers
DESCRIPTION:Dogs LOVE to be read to and they are very good listeners. Take time to build literacy skills\, confidence\, and patience with a therapy dog at the library. \nAges 5–12 \n4:00–5:00pm \n  \n 
URL:https://mcbridelibrary.org/event/books-barkers-2/2026-02-02/
LOCATION:Children’s Library\, second floor
ATTACH;FMTTYPE=image/png:https://mcbridelibrary.org/wp-content/uploads/2025/04/rsz_1booksnbarkerslogo.png
END:VEVENT
BEGIN:VEVENT
DTSTART;TZID=America/New_York:20260202T113000
DTEND;TZID=America/New_York:20260202T123000
DTSTAMP:20260421T062642
CREATED:20251227T212121Z
LAST-MODIFIED:20251227T212121Z
UID:10006331-1770031800-1770035400@mcbridelibrary.org
SUMMARY:StoryTime
DESCRIPTION:Traditional story time with read aloud\, songs\, fingerplays\, and movement.
URL:https://mcbridelibrary.org/event/storytime/2026-02-02/
LOCATION:Children’s Library\, second floor
ATTACH;FMTTYPE=image/png:https://mcbridelibrary.org/wp-content/uploads/2025/06/Storytime-1.png
END:VEVENT
BEGIN:VEVENT
DTSTART;TZID=America/New_York:20260129T113000
DTEND;TZID=America/New_York:20260129T123000
DTSTAMP:20260421T062642
CREATED:20251227T212329Z
LAST-MODIFIED:20260126T212401Z
UID:10006344-1769686200-1769689800@mcbridelibrary.org
SUMMARY:StoryTime
DESCRIPTION:Traditional story time with read aloud\, songs\, fingerplays\, and movement.
URL:https://mcbridelibrary.org/event/storytime-2/2026-01-29/
LOCATION:Children’s Library\, second floor
ATTACH;FMTTYPE=image/png:https://mcbridelibrary.org/wp-content/uploads/2026/01/Your-paragraph-text-1.png
END:VEVENT
BEGIN:VEVENT
DTSTART;TZID=America/New_York:20260126T160000
DTEND;TZID=America/New_York:20260126T170000
DTSTAMP:20260421T062642
CREATED:20250430T015518Z
LAST-MODIFIED:20251227T184826Z
UID:10004921-1769443200-1769446800@mcbridelibrary.org
SUMMARY:Books & Barkers
DESCRIPTION:Dogs LOVE to be read to and they are very good listeners. Take time to build literacy skills\, confidence\, and patience with a therapy dog at the library. \nAges 5–12 \n4:00–5:00pm \n  \n 
URL:https://mcbridelibrary.org/event/books-barkers-2/2026-01-26/
LOCATION:Children’s Library\, second floor
ATTACH;FMTTYPE=image/png:https://mcbridelibrary.org/wp-content/uploads/2025/04/rsz_1booksnbarkerslogo.png
END:VEVENT
BEGIN:VEVENT
DTSTART;TZID=America/New_York:20260126T113000
DTEND;TZID=America/New_York:20260126T123000
DTSTAMP:20260421T062642
CREATED:20251227T212121Z
LAST-MODIFIED:20251227T212121Z
UID:10006330-1769427000-1769430600@mcbridelibrary.org
SUMMARY:StoryTime
DESCRIPTION:Traditional story time with read aloud\, songs\, fingerplays\, and movement.
URL:https://mcbridelibrary.org/event/storytime/2026-01-26/
LOCATION:Children’s Library\, second floor
ATTACH;FMTTYPE=image/png:https://mcbridelibrary.org/wp-content/uploads/2025/06/Storytime-1.png
END:VEVENT
BEGIN:VEVENT
DTSTART;TZID=America/New_York:20260122T113000
DTEND;TZID=America/New_York:20260122T123000
DTSTAMP:20260421T062642
CREATED:20251227T212329Z
LAST-MODIFIED:20260126T212401Z
UID:10006343-1769081400-1769085000@mcbridelibrary.org
SUMMARY:StoryTime
DESCRIPTION:Traditional story time with read aloud\, songs\, fingerplays\, and movement.
URL:https://mcbridelibrary.org/event/storytime-2/2026-01-22/
LOCATION:Children’s Library\, second floor
ATTACH;FMTTYPE=image/png:https://mcbridelibrary.org/wp-content/uploads/2026/01/Your-paragraph-text-1.png
END:VEVENT
BEGIN:VEVENT
DTSTART;TZID=America/New_York:20260119T160000
DTEND;TZID=America/New_York:20260119T170000
DTSTAMP:20260421T062642
CREATED:20250430T015518Z
LAST-MODIFIED:20251227T184826Z
UID:10004920-1768838400-1768842000@mcbridelibrary.org
SUMMARY:Books & Barkers
DESCRIPTION:Dogs LOVE to be read to and they are very good listeners. Take time to build literacy skills\, confidence\, and patience with a therapy dog at the library. \nAges 5–12 \n4:00–5:00pm \n  \n 
URL:https://mcbridelibrary.org/event/books-barkers-2/2026-01-19/
LOCATION:Children’s Library\, second floor
ATTACH;FMTTYPE=image/png:https://mcbridelibrary.org/wp-content/uploads/2025/04/rsz_1booksnbarkerslogo.png
END:VEVENT
END:VCALENDAR