BEGIN:VCALENDAR
VERSION:2.0
PRODID:-//McBride Memorial Library - ECPv6.15.15//NONSGML v1.0//EN
CALSCALE:GREGORIAN
METHOD:PUBLISH
X-WR-CALNAME:McBride Memorial Library
X-ORIGINAL-URL:https://mcbridelibrary.org
X-WR-CALDESC:Events for McBride Memorial Library
REFRESH-INTERVAL;VALUE=DURATION:PT1H
X-Robots-Tag:noindex
X-PUBLISHED-TTL:PT1H
BEGIN:VTIMEZONE
TZID:America/New_York
BEGIN:DAYLIGHT
TZOFFSETFROM:-0500
TZOFFSETTO:-0400
TZNAME:EDT
DTSTART:20240310T070000
END:DAYLIGHT
BEGIN:STANDARD
TZOFFSETFROM:-0400
TZOFFSETTO:-0500
TZNAME:EST
DTSTART:20241103T060000
END:STANDARD
BEGIN:DAYLIGHT
TZOFFSETFROM:-0500
TZOFFSETTO:-0400
TZNAME:EDT
DTSTART:20250309T070000
END:DAYLIGHT
BEGIN:STANDARD
TZOFFSETFROM:-0400
TZOFFSETTO:-0500
TZNAME:EST
DTSTART:20251102T060000
END:STANDARD
BEGIN:DAYLIGHT
TZOFFSETFROM:-0500
TZOFFSETTO:-0400
TZNAME:EDT
DTSTART:20260308T070000
END:DAYLIGHT
BEGIN:STANDARD
TZOFFSETFROM:-0400
TZOFFSETTO:-0500
TZNAME:EST
DTSTART:20261101T060000
END:STANDARD
BEGIN:DAYLIGHT
TZOFFSETFROM:-0500
TZOFFSETTO:-0400
TZNAME:EDT
DTSTART:20270314T070000
END:DAYLIGHT
BEGIN:STANDARD
TZOFFSETFROM:-0400
TZOFFSETTO:-0500
TZNAME:EST
DTSTART:20271107T060000
END:STANDARD
END:VTIMEZONE
BEGIN:VEVENT
DTSTART;TZID=America/New_York:20260209T160000
DTEND;TZID=America/New_York:20260209T170000
DTSTAMP:20260421T094528
CREATED:20250430T015518Z
LAST-MODIFIED:20251227T184826Z
UID:10004923-1770652800-1770656400@mcbridelibrary.org
SUMMARY:Books & Barkers
DESCRIPTION:Dogs LOVE to be read to and they are very good listeners. Take time to build literacy skills\, confidence\, and patience with a therapy dog at the library. \nAges 5–12 \n4:00–5:00pm \n  \n 
URL:https://mcbridelibrary.org/event/books-barkers-2/2026-02-09/
LOCATION:Children’s Library\, second floor
ATTACH;FMTTYPE=image/png:https://mcbridelibrary.org/wp-content/uploads/2025/04/rsz_1booksnbarkerslogo.png
END:VEVENT
BEGIN:VEVENT
DTSTART;TZID=America/New_York:20260209T113000
DTEND;TZID=America/New_York:20260209T123000
DTSTAMP:20260421T094528
CREATED:20251227T212121Z
LAST-MODIFIED:20251227T212121Z
UID:10006332-1770636600-1770640200@mcbridelibrary.org
SUMMARY:StoryTime
DESCRIPTION:Traditional story time with read aloud\, songs\, fingerplays\, and movement.
URL:https://mcbridelibrary.org/event/storytime/2026-02-09/
LOCATION:Children’s Library\, second floor
ATTACH;FMTTYPE=image/png:https://mcbridelibrary.org/wp-content/uploads/2025/06/Storytime-1.png
END:VEVENT
BEGIN:VEVENT
DTSTART;TZID=America/New_York:20260205T113000
DTEND;TZID=America/New_York:20260205T123000
DTSTAMP:20260421T094528
CREATED:20251227T212329Z
LAST-MODIFIED:20260126T212401Z
UID:10006345-1770291000-1770294600@mcbridelibrary.org
SUMMARY:StoryTime
DESCRIPTION:Traditional story time with read aloud\, songs\, fingerplays\, and movement.
URL:https://mcbridelibrary.org/event/storytime-2/2026-02-05/
LOCATION:Children’s Library\, second floor
ATTACH;FMTTYPE=image/png:https://mcbridelibrary.org/wp-content/uploads/2026/01/Your-paragraph-text-1.png
END:VEVENT
BEGIN:VEVENT
DTSTART;TZID=America/New_York:20260202T160000
DTEND;TZID=America/New_York:20260202T170000
DTSTAMP:20260421T094528
CREATED:20250430T015518Z
LAST-MODIFIED:20251227T184826Z
UID:10004922-1770048000-1770051600@mcbridelibrary.org
SUMMARY:Books & Barkers
DESCRIPTION:Dogs LOVE to be read to and they are very good listeners. Take time to build literacy skills\, confidence\, and patience with a therapy dog at the library. \nAges 5–12 \n4:00–5:00pm \n  \n 
URL:https://mcbridelibrary.org/event/books-barkers-2/2026-02-02/
LOCATION:Children’s Library\, second floor
ATTACH;FMTTYPE=image/png:https://mcbridelibrary.org/wp-content/uploads/2025/04/rsz_1booksnbarkerslogo.png
END:VEVENT
BEGIN:VEVENT
DTSTART;TZID=America/New_York:20260202T113000
DTEND;TZID=America/New_York:20260202T123000
DTSTAMP:20260421T094528
CREATED:20251227T212121Z
LAST-MODIFIED:20251227T212121Z
UID:10006331-1770031800-1770035400@mcbridelibrary.org
SUMMARY:StoryTime
DESCRIPTION:Traditional story time with read aloud\, songs\, fingerplays\, and movement.
URL:https://mcbridelibrary.org/event/storytime/2026-02-02/
LOCATION:Children’s Library\, second floor
ATTACH;FMTTYPE=image/png:https://mcbridelibrary.org/wp-content/uploads/2025/06/Storytime-1.png
END:VEVENT
BEGIN:VEVENT
DTSTART;TZID=America/New_York:20260129T113000
DTEND;TZID=America/New_York:20260129T123000
DTSTAMP:20260421T094528
CREATED:20251227T212329Z
LAST-MODIFIED:20260126T212401Z
UID:10006344-1769686200-1769689800@mcbridelibrary.org
SUMMARY:StoryTime
DESCRIPTION:Traditional story time with read aloud\, songs\, fingerplays\, and movement.
URL:https://mcbridelibrary.org/event/storytime-2/2026-01-29/
LOCATION:Children’s Library\, second floor
ATTACH;FMTTYPE=image/png:https://mcbridelibrary.org/wp-content/uploads/2026/01/Your-paragraph-text-1.png
END:VEVENT
BEGIN:VEVENT
DTSTART;TZID=America/New_York:20260126T160000
DTEND;TZID=America/New_York:20260126T170000
DTSTAMP:20260421T094528
CREATED:20250430T015518Z
LAST-MODIFIED:20251227T184826Z
UID:10004921-1769443200-1769446800@mcbridelibrary.org
SUMMARY:Books & Barkers
DESCRIPTION:Dogs LOVE to be read to and they are very good listeners. Take time to build literacy skills\, confidence\, and patience with a therapy dog at the library. \nAges 5–12 \n4:00–5:00pm \n  \n 
URL:https://mcbridelibrary.org/event/books-barkers-2/2026-01-26/
LOCATION:Children’s Library\, second floor
ATTACH;FMTTYPE=image/png:https://mcbridelibrary.org/wp-content/uploads/2025/04/rsz_1booksnbarkerslogo.png
END:VEVENT
BEGIN:VEVENT
DTSTART;TZID=America/New_York:20260126T113000
DTEND;TZID=America/New_York:20260126T123000
DTSTAMP:20260421T094528
CREATED:20251227T212121Z
LAST-MODIFIED:20251227T212121Z
UID:10006330-1769427000-1769430600@mcbridelibrary.org
SUMMARY:StoryTime
DESCRIPTION:Traditional story time with read aloud\, songs\, fingerplays\, and movement.
URL:https://mcbridelibrary.org/event/storytime/2026-01-26/
LOCATION:Children’s Library\, second floor
ATTACH;FMTTYPE=image/png:https://mcbridelibrary.org/wp-content/uploads/2025/06/Storytime-1.png
END:VEVENT
BEGIN:VEVENT
DTSTART;TZID=America/New_York:20260122T113000
DTEND;TZID=America/New_York:20260122T123000
DTSTAMP:20260421T094528
CREATED:20251227T212329Z
LAST-MODIFIED:20260126T212401Z
UID:10006343-1769081400-1769085000@mcbridelibrary.org
SUMMARY:StoryTime
DESCRIPTION:Traditional story time with read aloud\, songs\, fingerplays\, and movement.
URL:https://mcbridelibrary.org/event/storytime-2/2026-01-22/
LOCATION:Children’s Library\, second floor
ATTACH;FMTTYPE=image/png:https://mcbridelibrary.org/wp-content/uploads/2026/01/Your-paragraph-text-1.png
END:VEVENT
BEGIN:VEVENT
DTSTART;TZID=America/New_York:20260119T160000
DTEND;TZID=America/New_York:20260119T170000
DTSTAMP:20260421T094528
CREATED:20250430T015518Z
LAST-MODIFIED:20251227T184826Z
UID:10004920-1768838400-1768842000@mcbridelibrary.org
SUMMARY:Books & Barkers
DESCRIPTION:Dogs LOVE to be read to and they are very good listeners. Take time to build literacy skills\, confidence\, and patience with a therapy dog at the library. \nAges 5–12 \n4:00–5:00pm \n  \n 
URL:https://mcbridelibrary.org/event/books-barkers-2/2026-01-19/
LOCATION:Children’s Library\, second floor
ATTACH;FMTTYPE=image/png:https://mcbridelibrary.org/wp-content/uploads/2025/04/rsz_1booksnbarkerslogo.png
END:VEVENT
BEGIN:VEVENT
DTSTART;TZID=America/New_York:20260119T113000
DTEND;TZID=America/New_York:20260119T123000
DTSTAMP:20260421T094528
CREATED:20251227T212121Z
LAST-MODIFIED:20251227T212121Z
UID:10006329-1768822200-1768825800@mcbridelibrary.org
SUMMARY:StoryTime
DESCRIPTION:Traditional story time with read aloud\, songs\, fingerplays\, and movement.
URL:https://mcbridelibrary.org/event/storytime/2026-01-19/
LOCATION:Children’s Library\, second floor
ATTACH;FMTTYPE=image/png:https://mcbridelibrary.org/wp-content/uploads/2025/06/Storytime-1.png
END:VEVENT
BEGIN:VEVENT
DTSTART;TZID=America/New_York:20260112T160000
DTEND;TZID=America/New_York:20260112T170000
DTSTAMP:20260421T094528
CREATED:20250430T015518Z
LAST-MODIFIED:20251227T184826Z
UID:10004919-1768233600-1768237200@mcbridelibrary.org
SUMMARY:Books & Barkers
DESCRIPTION:Dogs LOVE to be read to and they are very good listeners. Take time to build literacy skills\, confidence\, and patience with a therapy dog at the library. \nAges 5–12 \n4:00–5:00pm \n  \n 
URL:https://mcbridelibrary.org/event/books-barkers-2/2026-01-12/
LOCATION:Children’s Library\, second floor
ATTACH;FMTTYPE=image/png:https://mcbridelibrary.org/wp-content/uploads/2025/04/rsz_1booksnbarkerslogo.png
END:VEVENT
BEGIN:VEVENT
DTSTART;TZID=America/New_York:20260105T160000
DTEND;TZID=America/New_York:20260105T170000
DTSTAMP:20260421T094528
CREATED:20250430T015518Z
LAST-MODIFIED:20251227T184826Z
UID:10004918-1767628800-1767632400@mcbridelibrary.org
SUMMARY:Books & Barkers
DESCRIPTION:Dogs LOVE to be read to and they are very good listeners. Take time to build literacy skills\, confidence\, and patience with a therapy dog at the library. \nAges 5–12 \n4:00–5:00pm \n  \n 
URL:https://mcbridelibrary.org/event/books-barkers-2/2026-01-05/
LOCATION:Children’s Library\, second floor
ATTACH;FMTTYPE=image/png:https://mcbridelibrary.org/wp-content/uploads/2025/04/rsz_1booksnbarkerslogo.png
END:VEVENT
BEGIN:VEVENT
DTSTART;TZID=America/New_York:20251229T160000
DTEND;TZID=America/New_York:20251229T170000
DTSTAMP:20260421T094528
CREATED:20250430T015518Z
LAST-MODIFIED:20251227T184826Z
UID:10004917-1767024000-1767027600@mcbridelibrary.org
SUMMARY:Books & Barkers
DESCRIPTION:Dogs LOVE to be read to and they are very good listeners. Take time to build literacy skills\, confidence\, and patience with a therapy dog at the library. \nAges 5–12 \n4:00–5:00pm \n  \n 
URL:https://mcbridelibrary.org/event/books-barkers-2/2025-12-29/
LOCATION:Children’s Library\, second floor
ATTACH;FMTTYPE=image/png:https://mcbridelibrary.org/wp-content/uploads/2025/04/rsz_1booksnbarkerslogo.png
END:VEVENT
BEGIN:VEVENT
DTSTART;TZID=America/New_York:20251222T160000
DTEND;TZID=America/New_York:20251222T170000
DTSTAMP:20260421T094528
CREATED:20250430T015518Z
LAST-MODIFIED:20251227T184826Z
UID:10004916-1766419200-1766422800@mcbridelibrary.org
SUMMARY:Books & Barkers
DESCRIPTION:Dogs LOVE to be read to and they are very good listeners. Take time to build literacy skills\, confidence\, and patience with a therapy dog at the library. \nAges 5–12 \n4:00–5:00pm \n  \n 
URL:https://mcbridelibrary.org/event/books-barkers-2/2025-12-22/
LOCATION:Children’s Library\, second floor
ATTACH;FMTTYPE=image/png:https://mcbridelibrary.org/wp-content/uploads/2025/04/rsz_1booksnbarkerslogo.png
END:VEVENT
BEGIN:VEVENT
DTSTART;TZID=America/New_York:20251215T160000
DTEND;TZID=America/New_York:20251215T170000
DTSTAMP:20260421T094528
CREATED:20250430T015518Z
LAST-MODIFIED:20251227T184826Z
UID:10004915-1765814400-1765818000@mcbridelibrary.org
SUMMARY:Books & Barkers
DESCRIPTION:Dogs LOVE to be read to and they are very good listeners. Take time to build literacy skills\, confidence\, and patience with a therapy dog at the library. \nAges 5–12 \n4:00–5:00pm \n  \n 
URL:https://mcbridelibrary.org/event/books-barkers-2/2025-12-15/
LOCATION:Children’s Library\, second floor
ATTACH;FMTTYPE=image/png:https://mcbridelibrary.org/wp-content/uploads/2025/04/rsz_1booksnbarkerslogo.png
END:VEVENT
BEGIN:VEVENT
DTSTART;TZID=America/New_York:20251208T160000
DTEND;TZID=America/New_York:20251208T170000
DTSTAMP:20260421T094528
CREATED:20250430T015518Z
LAST-MODIFIED:20251227T184826Z
UID:10004914-1765209600-1765213200@mcbridelibrary.org
SUMMARY:Books & Barkers
DESCRIPTION:Dogs LOVE to be read to and they are very good listeners. Take time to build literacy skills\, confidence\, and patience with a therapy dog at the library. \nAges 5–12 \n4:00–5:00pm \n  \n 
URL:https://mcbridelibrary.org/event/books-barkers-2/2025-12-08/
LOCATION:Children’s Library\, second floor
ATTACH;FMTTYPE=image/png:https://mcbridelibrary.org/wp-content/uploads/2025/04/rsz_1booksnbarkerslogo.png
END:VEVENT
BEGIN:VEVENT
DTSTART;TZID=America/New_York:20251201T160000
DTEND;TZID=America/New_York:20251201T170000
DTSTAMP:20260421T094528
CREATED:20250430T015518Z
LAST-MODIFIED:20251227T184826Z
UID:10004913-1764604800-1764608400@mcbridelibrary.org
SUMMARY:Books & Barkers
DESCRIPTION:Dogs LOVE to be read to and they are very good listeners. Take time to build literacy skills\, confidence\, and patience with a therapy dog at the library. \nAges 5–12 \n4:00–5:00pm \n  \n 
URL:https://mcbridelibrary.org/event/books-barkers-2/2025-12-01/
LOCATION:Children’s Library\, second floor
ATTACH;FMTTYPE=image/png:https://mcbridelibrary.org/wp-content/uploads/2025/04/rsz_1booksnbarkerslogo.png
END:VEVENT
BEGIN:VEVENT
DTSTART;TZID=America/New_York:20251124T160000
DTEND;TZID=America/New_York:20251124T170000
DTSTAMP:20260421T094528
CREATED:20250430T015518Z
LAST-MODIFIED:20251227T184826Z
UID:10004912-1764000000-1764003600@mcbridelibrary.org
SUMMARY:Books & Barkers
DESCRIPTION:Dogs LOVE to be read to and they are very good listeners. Take time to build literacy skills\, confidence\, and patience with a therapy dog at the library. \nAges 5–12 \n4:00–5:00pm \n  \n 
URL:https://mcbridelibrary.org/event/books-barkers-2/2025-11-24/
LOCATION:Children’s Library\, second floor
ATTACH;FMTTYPE=image/png:https://mcbridelibrary.org/wp-content/uploads/2025/04/rsz_1booksnbarkerslogo.png
END:VEVENT
BEGIN:VEVENT
DTSTART;TZID=America/New_York:20251117T160000
DTEND;TZID=America/New_York:20251117T170000
DTSTAMP:20260421T094528
CREATED:20250430T015518Z
LAST-MODIFIED:20251227T184826Z
UID:10004911-1763395200-1763398800@mcbridelibrary.org
SUMMARY:Books & Barkers
DESCRIPTION:Dogs LOVE to be read to and they are very good listeners. Take time to build literacy skills\, confidence\, and patience with a therapy dog at the library. \nAges 5–12 \n4:00–5:00pm \n  \n 
URL:https://mcbridelibrary.org/event/books-barkers-2/2025-11-17/
LOCATION:Children’s Library\, second floor
ATTACH;FMTTYPE=image/png:https://mcbridelibrary.org/wp-content/uploads/2025/04/rsz_1booksnbarkerslogo.png
END:VEVENT
BEGIN:VEVENT
DTSTART;TZID=America/New_York:20251110T160000
DTEND;TZID=America/New_York:20251110T170000
DTSTAMP:20260421T094528
CREATED:20250430T015518Z
LAST-MODIFIED:20251227T184826Z
UID:10004910-1762790400-1762794000@mcbridelibrary.org
SUMMARY:Books & Barkers
DESCRIPTION:Dogs LOVE to be read to and they are very good listeners. Take time to build literacy skills\, confidence\, and patience with a therapy dog at the library. \nAges 5–12 \n4:00–5:00pm \n  \n 
URL:https://mcbridelibrary.org/event/books-barkers-2/2025-11-10/
LOCATION:Children’s Library\, second floor
ATTACH;FMTTYPE=image/png:https://mcbridelibrary.org/wp-content/uploads/2025/04/rsz_1booksnbarkerslogo.png
END:VEVENT
BEGIN:VEVENT
DTSTART;TZID=America/New_York:20251103T160000
DTEND;TZID=America/New_York:20251103T170000
DTSTAMP:20260421T094528
CREATED:20250430T015518Z
LAST-MODIFIED:20251227T184826Z
UID:10004909-1762185600-1762189200@mcbridelibrary.org
SUMMARY:Books & Barkers
DESCRIPTION:Dogs LOVE to be read to and they are very good listeners. Take time to build literacy skills\, confidence\, and patience with a therapy dog at the library. \nAges 5–12 \n4:00–5:00pm \n  \n 
URL:https://mcbridelibrary.org/event/books-barkers-2/2025-11-03/
LOCATION:Children’s Library\, second floor
ATTACH;FMTTYPE=image/png:https://mcbridelibrary.org/wp-content/uploads/2025/04/rsz_1booksnbarkerslogo.png
END:VEVENT
BEGIN:VEVENT
DTSTART;TZID=America/New_York:20251027T160000
DTEND;TZID=America/New_York:20251027T170000
DTSTAMP:20260421T094528
CREATED:20250430T015518Z
LAST-MODIFIED:20251227T184826Z
UID:10004908-1761580800-1761584400@mcbridelibrary.org
SUMMARY:Books & Barkers
DESCRIPTION:Dogs LOVE to be read to and they are very good listeners. Take time to build literacy skills\, confidence\, and patience with a therapy dog at the library. \nAges 5–12 \n4:00–5:00pm \n  \n 
URL:https://mcbridelibrary.org/event/books-barkers-2/2025-10-27/
LOCATION:Children’s Library\, second floor
ATTACH;FMTTYPE=image/png:https://mcbridelibrary.org/wp-content/uploads/2025/04/rsz_1booksnbarkerslogo.png
END:VEVENT
BEGIN:VEVENT
DTSTART;TZID=America/New_York:20251020T160000
DTEND;TZID=America/New_York:20251020T170000
DTSTAMP:20260421T094528
CREATED:20250430T015518Z
LAST-MODIFIED:20251227T184826Z
UID:10004907-1760976000-1760979600@mcbridelibrary.org
SUMMARY:Books & Barkers
DESCRIPTION:Dogs LOVE to be read to and they are very good listeners. Take time to build literacy skills\, confidence\, and patience with a therapy dog at the library. \nAges 5–12 \n4:00–5:00pm \n  \n 
URL:https://mcbridelibrary.org/event/books-barkers-2/2025-10-20/
LOCATION:Children’s Library\, second floor
ATTACH;FMTTYPE=image/png:https://mcbridelibrary.org/wp-content/uploads/2025/04/rsz_1booksnbarkerslogo.png
END:VEVENT
BEGIN:VEVENT
DTSTART;TZID=America/New_York:20251013T160000
DTEND;TZID=America/New_York:20251013T170000
DTSTAMP:20260421T094528
CREATED:20250430T015518Z
LAST-MODIFIED:20251227T184826Z
UID:10004906-1760371200-1760374800@mcbridelibrary.org
SUMMARY:Books & Barkers
DESCRIPTION:Dogs LOVE to be read to and they are very good listeners. Take time to build literacy skills\, confidence\, and patience with a therapy dog at the library. \nAges 5–12 \n4:00–5:00pm \n  \n 
URL:https://mcbridelibrary.org/event/books-barkers-2/2025-10-13/
LOCATION:Children’s Library\, second floor
ATTACH;FMTTYPE=image/png:https://mcbridelibrary.org/wp-content/uploads/2025/04/rsz_1booksnbarkerslogo.png
END:VEVENT
BEGIN:VEVENT
DTSTART;TZID=America/New_York:20251006T160000
DTEND;TZID=America/New_York:20251006T170000
DTSTAMP:20260421T094528
CREATED:20250430T015518Z
LAST-MODIFIED:20251227T184826Z
UID:10004905-1759766400-1759770000@mcbridelibrary.org
SUMMARY:Books & Barkers
DESCRIPTION:Dogs LOVE to be read to and they are very good listeners. Take time to build literacy skills\, confidence\, and patience with a therapy dog at the library. \nAges 5–12 \n4:00–5:00pm \n  \n 
URL:https://mcbridelibrary.org/event/books-barkers-2/2025-10-06/
LOCATION:Children’s Library\, second floor
ATTACH;FMTTYPE=image/png:https://mcbridelibrary.org/wp-content/uploads/2025/04/rsz_1booksnbarkerslogo.png
END:VEVENT
BEGIN:VEVENT
DTSTART;TZID=America/New_York:20250929T160000
DTEND;TZID=America/New_York:20250929T170000
DTSTAMP:20260421T094528
CREATED:20250430T015518Z
LAST-MODIFIED:20251227T184826Z
UID:10004904-1759161600-1759165200@mcbridelibrary.org
SUMMARY:Books & Barkers
DESCRIPTION:Dogs LOVE to be read to and they are very good listeners. Take time to build literacy skills\, confidence\, and patience with a therapy dog at the library. \nAges 5–12 \n4:00–5:00pm \n  \n 
URL:https://mcbridelibrary.org/event/books-barkers-2/2025-09-29/
LOCATION:Children’s Library\, second floor
ATTACH;FMTTYPE=image/png:https://mcbridelibrary.org/wp-content/uploads/2025/04/rsz_1booksnbarkerslogo.png
END:VEVENT
BEGIN:VEVENT
DTSTART;TZID=America/New_York:20250915T160000
DTEND;TZID=America/New_York:20250915T170000
DTSTAMP:20260421T094528
CREATED:20250430T015518Z
LAST-MODIFIED:20251227T184826Z
UID:10004903-1757952000-1757955600@mcbridelibrary.org
SUMMARY:Books & Barkers
DESCRIPTION:Dogs LOVE to be read to and they are very good listeners. Take time to build literacy skills\, confidence\, and patience with a therapy dog at the library. \nAges 5–12 \n4:00–5:00pm \n  \n 
URL:https://mcbridelibrary.org/event/books-barkers-2/2025-09-15/
LOCATION:Children’s Library\, second floor
ATTACH;FMTTYPE=image/png:https://mcbridelibrary.org/wp-content/uploads/2025/04/rsz_1booksnbarkerslogo.png
END:VEVENT
BEGIN:VEVENT
DTSTART;TZID=America/New_York:20250908T160000
DTEND;TZID=America/New_York:20250908T170000
DTSTAMP:20260421T094528
CREATED:20250430T015518Z
LAST-MODIFIED:20251227T184826Z
UID:10004902-1757347200-1757350800@mcbridelibrary.org
SUMMARY:Books & Barkers
DESCRIPTION:Dogs LOVE to be read to and they are very good listeners. Take time to build literacy skills\, confidence\, and patience with a therapy dog at the library. \nAges 5–12 \n4:00–5:00pm \n  \n 
URL:https://mcbridelibrary.org/event/books-barkers-2/2025-09-08/
LOCATION:Children’s Library\, second floor
ATTACH;FMTTYPE=image/png:https://mcbridelibrary.org/wp-content/uploads/2025/04/rsz_1booksnbarkerslogo.png
END:VEVENT
BEGIN:VEVENT
DTSTART;TZID=America/New_York:20250825T160000
DTEND;TZID=America/New_York:20250825T170000
DTSTAMP:20260421T094528
CREATED:20250430T015518Z
LAST-MODIFIED:20251227T184826Z
UID:10004901-1756137600-1756141200@mcbridelibrary.org
SUMMARY:Books & Barkers
DESCRIPTION:Dogs LOVE to be read to and they are very good listeners. Take time to build literacy skills\, confidence\, and patience with a therapy dog at the library. \nAges 5–12 \n4:00–5:00pm \n  \n 
URL:https://mcbridelibrary.org/event/books-barkers-2/2025-08-25/
LOCATION:Children’s Library\, second floor
ATTACH;FMTTYPE=image/png:https://mcbridelibrary.org/wp-content/uploads/2025/04/rsz_1booksnbarkerslogo.png
END:VEVENT
END:VCALENDAR