BEGIN:VCALENDAR
VERSION:2.0
PRODID:-//McBride Memorial Library - ECPv6.15.15//NONSGML v1.0//EN
CALSCALE:GREGORIAN
METHOD:PUBLISH
X-WR-CALNAME:McBride Memorial Library
X-ORIGINAL-URL:https://mcbridelibrary.org
X-WR-CALDESC:Events for McBride Memorial Library
REFRESH-INTERVAL;VALUE=DURATION:PT1H
X-Robots-Tag:noindex
X-PUBLISHED-TTL:PT1H
BEGIN:VTIMEZONE
TZID:America/New_York
BEGIN:DAYLIGHT
TZOFFSETFROM:-0500
TZOFFSETTO:-0400
TZNAME:EDT
DTSTART:20240310T070000
END:DAYLIGHT
BEGIN:STANDARD
TZOFFSETFROM:-0400
TZOFFSETTO:-0500
TZNAME:EST
DTSTART:20241103T060000
END:STANDARD
BEGIN:DAYLIGHT
TZOFFSETFROM:-0500
TZOFFSETTO:-0400
TZNAME:EDT
DTSTART:20250309T070000
END:DAYLIGHT
BEGIN:STANDARD
TZOFFSETFROM:-0400
TZOFFSETTO:-0500
TZNAME:EST
DTSTART:20251102T060000
END:STANDARD
BEGIN:DAYLIGHT
TZOFFSETFROM:-0500
TZOFFSETTO:-0400
TZNAME:EDT
DTSTART:20260308T070000
END:DAYLIGHT
BEGIN:STANDARD
TZOFFSETFROM:-0400
TZOFFSETTO:-0500
TZNAME:EST
DTSTART:20261101T060000
END:STANDARD
END:VTIMEZONE
BEGIN:VEVENT
DTSTART;TZID=America/New_York:20251110T160000
DTEND;TZID=America/New_York:20251110T170000
DTSTAMP:20260421T130934
CREATED:20250430T015518Z
LAST-MODIFIED:20251227T184826Z
UID:10004910-1762790400-1762794000@mcbridelibrary.org
SUMMARY:Books & Barkers
DESCRIPTION:Dogs LOVE to be read to and they are very good listeners. Take time to build literacy skills\, confidence\, and patience with a therapy dog at the library. \nAges 5–12 \n4:00–5:00pm \n  \n 
URL:https://mcbridelibrary.org/event/books-barkers-2/2025-11-10/
LOCATION:Children’s Library\, second floor
ATTACH;FMTTYPE=image/png:https://mcbridelibrary.org/wp-content/uploads/2025/04/rsz_1booksnbarkerslogo.png
END:VEVENT
BEGIN:VEVENT
DTSTART;TZID=America/New_York:20251103T160000
DTEND;TZID=America/New_York:20251103T170000
DTSTAMP:20260421T130934
CREATED:20250430T015518Z
LAST-MODIFIED:20251227T184826Z
UID:10004909-1762185600-1762189200@mcbridelibrary.org
SUMMARY:Books & Barkers
DESCRIPTION:Dogs LOVE to be read to and they are very good listeners. Take time to build literacy skills\, confidence\, and patience with a therapy dog at the library. \nAges 5–12 \n4:00–5:00pm \n  \n 
URL:https://mcbridelibrary.org/event/books-barkers-2/2025-11-03/
LOCATION:Children’s Library\, second floor
ATTACH;FMTTYPE=image/png:https://mcbridelibrary.org/wp-content/uploads/2025/04/rsz_1booksnbarkerslogo.png
END:VEVENT
BEGIN:VEVENT
DTSTART;TZID=America/New_York:20251027T160000
DTEND;TZID=America/New_York:20251027T170000
DTSTAMP:20260421T130934
CREATED:20250430T015518Z
LAST-MODIFIED:20251227T184826Z
UID:10004908-1761580800-1761584400@mcbridelibrary.org
SUMMARY:Books & Barkers
DESCRIPTION:Dogs LOVE to be read to and they are very good listeners. Take time to build literacy skills\, confidence\, and patience with a therapy dog at the library. \nAges 5–12 \n4:00–5:00pm \n  \n 
URL:https://mcbridelibrary.org/event/books-barkers-2/2025-10-27/
LOCATION:Children’s Library\, second floor
ATTACH;FMTTYPE=image/png:https://mcbridelibrary.org/wp-content/uploads/2025/04/rsz_1booksnbarkerslogo.png
END:VEVENT
BEGIN:VEVENT
DTSTART;TZID=America/New_York:20251020T160000
DTEND;TZID=America/New_York:20251020T170000
DTSTAMP:20260421T130934
CREATED:20250430T015518Z
LAST-MODIFIED:20251227T184826Z
UID:10004907-1760976000-1760979600@mcbridelibrary.org
SUMMARY:Books & Barkers
DESCRIPTION:Dogs LOVE to be read to and they are very good listeners. Take time to build literacy skills\, confidence\, and patience with a therapy dog at the library. \nAges 5–12 \n4:00–5:00pm \n  \n 
URL:https://mcbridelibrary.org/event/books-barkers-2/2025-10-20/
LOCATION:Children’s Library\, second floor
ATTACH;FMTTYPE=image/png:https://mcbridelibrary.org/wp-content/uploads/2025/04/rsz_1booksnbarkerslogo.png
END:VEVENT
BEGIN:VEVENT
DTSTART;TZID=America/New_York:20251013T160000
DTEND;TZID=America/New_York:20251013T170000
DTSTAMP:20260421T130934
CREATED:20250430T015518Z
LAST-MODIFIED:20251227T184826Z
UID:10004906-1760371200-1760374800@mcbridelibrary.org
SUMMARY:Books & Barkers
DESCRIPTION:Dogs LOVE to be read to and they are very good listeners. Take time to build literacy skills\, confidence\, and patience with a therapy dog at the library. \nAges 5–12 \n4:00–5:00pm \n  \n 
URL:https://mcbridelibrary.org/event/books-barkers-2/2025-10-13/
LOCATION:Children’s Library\, second floor
ATTACH;FMTTYPE=image/png:https://mcbridelibrary.org/wp-content/uploads/2025/04/rsz_1booksnbarkerslogo.png
END:VEVENT
BEGIN:VEVENT
DTSTART;TZID=America/New_York:20251006T160000
DTEND;TZID=America/New_York:20251006T170000
DTSTAMP:20260421T130934
CREATED:20250430T015518Z
LAST-MODIFIED:20251227T184826Z
UID:10004905-1759766400-1759770000@mcbridelibrary.org
SUMMARY:Books & Barkers
DESCRIPTION:Dogs LOVE to be read to and they are very good listeners. Take time to build literacy skills\, confidence\, and patience with a therapy dog at the library. \nAges 5–12 \n4:00–5:00pm \n  \n 
URL:https://mcbridelibrary.org/event/books-barkers-2/2025-10-06/
LOCATION:Children’s Library\, second floor
ATTACH;FMTTYPE=image/png:https://mcbridelibrary.org/wp-content/uploads/2025/04/rsz_1booksnbarkerslogo.png
END:VEVENT
BEGIN:VEVENT
DTSTART;TZID=America/New_York:20250929T160000
DTEND;TZID=America/New_York:20250929T170000
DTSTAMP:20260421T130934
CREATED:20250430T015518Z
LAST-MODIFIED:20251227T184826Z
UID:10004904-1759161600-1759165200@mcbridelibrary.org
SUMMARY:Books & Barkers
DESCRIPTION:Dogs LOVE to be read to and they are very good listeners. Take time to build literacy skills\, confidence\, and patience with a therapy dog at the library. \nAges 5–12 \n4:00–5:00pm \n  \n 
URL:https://mcbridelibrary.org/event/books-barkers-2/2025-09-29/
LOCATION:Children’s Library\, second floor
ATTACH;FMTTYPE=image/png:https://mcbridelibrary.org/wp-content/uploads/2025/04/rsz_1booksnbarkerslogo.png
END:VEVENT
BEGIN:VEVENT
DTSTART;TZID=America/New_York:20250915T160000
DTEND;TZID=America/New_York:20250915T170000
DTSTAMP:20260421T130934
CREATED:20250430T015518Z
LAST-MODIFIED:20251227T184826Z
UID:10004903-1757952000-1757955600@mcbridelibrary.org
SUMMARY:Books & Barkers
DESCRIPTION:Dogs LOVE to be read to and they are very good listeners. Take time to build literacy skills\, confidence\, and patience with a therapy dog at the library. \nAges 5–12 \n4:00–5:00pm \n  \n 
URL:https://mcbridelibrary.org/event/books-barkers-2/2025-09-15/
LOCATION:Children’s Library\, second floor
ATTACH;FMTTYPE=image/png:https://mcbridelibrary.org/wp-content/uploads/2025/04/rsz_1booksnbarkerslogo.png
END:VEVENT
BEGIN:VEVENT
DTSTART;TZID=America/New_York:20250908T160000
DTEND;TZID=America/New_York:20250908T170000
DTSTAMP:20260421T130934
CREATED:20250430T015518Z
LAST-MODIFIED:20251227T184826Z
UID:10004902-1757347200-1757350800@mcbridelibrary.org
SUMMARY:Books & Barkers
DESCRIPTION:Dogs LOVE to be read to and they are very good listeners. Take time to build literacy skills\, confidence\, and patience with a therapy dog at the library. \nAges 5–12 \n4:00–5:00pm \n  \n 
URL:https://mcbridelibrary.org/event/books-barkers-2/2025-09-08/
LOCATION:Children’s Library\, second floor
ATTACH;FMTTYPE=image/png:https://mcbridelibrary.org/wp-content/uploads/2025/04/rsz_1booksnbarkerslogo.png
END:VEVENT
BEGIN:VEVENT
DTSTART;TZID=America/New_York:20250825T160000
DTEND;TZID=America/New_York:20250825T170000
DTSTAMP:20260421T130934
CREATED:20250430T015518Z
LAST-MODIFIED:20251227T184826Z
UID:10004901-1756137600-1756141200@mcbridelibrary.org
SUMMARY:Books & Barkers
DESCRIPTION:Dogs LOVE to be read to and they are very good listeners. Take time to build literacy skills\, confidence\, and patience with a therapy dog at the library. \nAges 5–12 \n4:00–5:00pm \n  \n 
URL:https://mcbridelibrary.org/event/books-barkers-2/2025-08-25/
LOCATION:Children’s Library\, second floor
ATTACH;FMTTYPE=image/png:https://mcbridelibrary.org/wp-content/uploads/2025/04/rsz_1booksnbarkerslogo.png
END:VEVENT
BEGIN:VEVENT
DTSTART;TZID=America/New_York:20250818T160000
DTEND;TZID=America/New_York:20250818T170000
DTSTAMP:20260421T130934
CREATED:20250430T015518Z
LAST-MODIFIED:20251227T184826Z
UID:10004900-1755532800-1755536400@mcbridelibrary.org
SUMMARY:Books & Barkers
DESCRIPTION:Dogs LOVE to be read to and they are very good listeners. Take time to build literacy skills\, confidence\, and patience with a therapy dog at the library. \nAges 5–12 \n4:00–5:00pm \n  \n 
URL:https://mcbridelibrary.org/event/books-barkers-2/2025-08-18/
LOCATION:Children’s Library\, second floor
ATTACH;FMTTYPE=image/png:https://mcbridelibrary.org/wp-content/uploads/2025/04/rsz_1booksnbarkerslogo.png
END:VEVENT
BEGIN:VEVENT
DTSTART;TZID=America/New_York:20250811T160000
DTEND;TZID=America/New_York:20250811T170000
DTSTAMP:20260421T130934
CREATED:20250430T015518Z
LAST-MODIFIED:20251227T184826Z
UID:10004899-1754928000-1754931600@mcbridelibrary.org
SUMMARY:Books & Barkers
DESCRIPTION:Dogs LOVE to be read to and they are very good listeners. Take time to build literacy skills\, confidence\, and patience with a therapy dog at the library. \nAges 5–12 \n4:00–5:00pm \n  \n 
URL:https://mcbridelibrary.org/event/books-barkers-2/2025-08-11/
LOCATION:Children’s Library\, second floor
ATTACH;FMTTYPE=image/png:https://mcbridelibrary.org/wp-content/uploads/2025/04/rsz_1booksnbarkerslogo.png
END:VEVENT
BEGIN:VEVENT
DTSTART;TZID=America/New_York:20250804T160000
DTEND;TZID=America/New_York:20250804T170000
DTSTAMP:20260421T130934
CREATED:20250430T015518Z
LAST-MODIFIED:20251227T184826Z
UID:10004898-1754323200-1754326800@mcbridelibrary.org
SUMMARY:Books & Barkers
DESCRIPTION:Dogs LOVE to be read to and they are very good listeners. Take time to build literacy skills\, confidence\, and patience with a therapy dog at the library. \nAges 5–12 \n4:00–5:00pm \n  \n 
URL:https://mcbridelibrary.org/event/books-barkers-2/2025-08-04/
LOCATION:Children’s Library\, second floor
ATTACH;FMTTYPE=image/png:https://mcbridelibrary.org/wp-content/uploads/2025/04/rsz_1booksnbarkerslogo.png
END:VEVENT
BEGIN:VEVENT
DTSTART;TZID=America/New_York:20250728T160000
DTEND;TZID=America/New_York:20250728T170000
DTSTAMP:20260421T130934
CREATED:20250430T015518Z
LAST-MODIFIED:20251227T184826Z
UID:10004897-1753718400-1753722000@mcbridelibrary.org
SUMMARY:Books & Barkers
DESCRIPTION:Dogs LOVE to be read to and they are very good listeners. Take time to build literacy skills\, confidence\, and patience with a therapy dog at the library. \nAges 5–12 \n4:00–5:00pm \n  \n 
URL:https://mcbridelibrary.org/event/books-barkers-2/2025-07-28/
LOCATION:Children’s Library\, second floor
ATTACH;FMTTYPE=image/png:https://mcbridelibrary.org/wp-content/uploads/2025/04/rsz_1booksnbarkerslogo.png
END:VEVENT
BEGIN:VEVENT
DTSTART;TZID=America/New_York:20250721T160000
DTEND;TZID=America/New_York:20250721T170000
DTSTAMP:20260421T130934
CREATED:20250430T015518Z
LAST-MODIFIED:20251227T184826Z
UID:10004896-1753113600-1753117200@mcbridelibrary.org
SUMMARY:Books & Barkers
DESCRIPTION:Dogs LOVE to be read to and they are very good listeners. Take time to build literacy skills\, confidence\, and patience with a therapy dog at the library. \nAges 5–12 \n4:00–5:00pm \n  \n 
URL:https://mcbridelibrary.org/event/books-barkers-2/2025-07-21/
LOCATION:Children’s Library\, second floor
ATTACH;FMTTYPE=image/png:https://mcbridelibrary.org/wp-content/uploads/2025/04/rsz_1booksnbarkerslogo.png
END:VEVENT
BEGIN:VEVENT
DTSTART;TZID=America/New_York:20250714T160000
DTEND;TZID=America/New_York:20250714T170000
DTSTAMP:20260421T130934
CREATED:20250430T015518Z
LAST-MODIFIED:20251227T184826Z
UID:10004895-1752508800-1752512400@mcbridelibrary.org
SUMMARY:Books & Barkers
DESCRIPTION:Dogs LOVE to be read to and they are very good listeners. Take time to build literacy skills\, confidence\, and patience with a therapy dog at the library. \nAges 5–12 \n4:00–5:00pm \n  \n 
URL:https://mcbridelibrary.org/event/books-barkers-2/2025-07-14/
LOCATION:Children’s Library\, second floor
ATTACH;FMTTYPE=image/png:https://mcbridelibrary.org/wp-content/uploads/2025/04/rsz_1booksnbarkerslogo.png
END:VEVENT
BEGIN:VEVENT
DTSTART;TZID=America/New_York:20250707T160000
DTEND;TZID=America/New_York:20250707T170000
DTSTAMP:20260421T130934
CREATED:20250430T015518Z
LAST-MODIFIED:20251227T184826Z
UID:10004894-1751904000-1751907600@mcbridelibrary.org
SUMMARY:Books & Barkers
DESCRIPTION:Dogs LOVE to be read to and they are very good listeners. Take time to build literacy skills\, confidence\, and patience with a therapy dog at the library. \nAges 5–12 \n4:00–5:00pm \n  \n 
URL:https://mcbridelibrary.org/event/books-barkers-2/2025-07-07/
LOCATION:Children’s Library\, second floor
ATTACH;FMTTYPE=image/png:https://mcbridelibrary.org/wp-content/uploads/2025/04/rsz_1booksnbarkerslogo.png
END:VEVENT
BEGIN:VEVENT
DTSTART;TZID=America/New_York:20250630T160000
DTEND;TZID=America/New_York:20250630T170000
DTSTAMP:20260421T130934
CREATED:20250430T015518Z
LAST-MODIFIED:20251227T184826Z
UID:10004893-1751299200-1751302800@mcbridelibrary.org
SUMMARY:Books & Barkers
DESCRIPTION:Dogs LOVE to be read to and they are very good listeners. Take time to build literacy skills\, confidence\, and patience with a therapy dog at the library. \nAges 5–12 \n4:00–5:00pm \n  \n 
URL:https://mcbridelibrary.org/event/books-barkers-2/2025-06-30/
LOCATION:Children’s Library\, second floor
ATTACH;FMTTYPE=image/png:https://mcbridelibrary.org/wp-content/uploads/2025/04/rsz_1booksnbarkerslogo.png
END:VEVENT
BEGIN:VEVENT
DTSTART;TZID=America/New_York:20250623T160000
DTEND;TZID=America/New_York:20250623T170000
DTSTAMP:20260421T130934
CREATED:20250430T015518Z
LAST-MODIFIED:20251227T184826Z
UID:10004892-1750694400-1750698000@mcbridelibrary.org
SUMMARY:Books & Barkers
DESCRIPTION:Dogs LOVE to be read to and they are very good listeners. Take time to build literacy skills\, confidence\, and patience with a therapy dog at the library. \nAges 5–12 \n4:00–5:00pm \n  \n 
URL:https://mcbridelibrary.org/event/books-barkers-2/2025-06-23/
LOCATION:Children’s Library\, second floor
ATTACH;FMTTYPE=image/png:https://mcbridelibrary.org/wp-content/uploads/2025/04/rsz_1booksnbarkerslogo.png
END:VEVENT
BEGIN:VEVENT
DTSTART;TZID=America/New_York:20250616T160000
DTEND;TZID=America/New_York:20250616T170000
DTSTAMP:20260421T130934
CREATED:20250430T015518Z
LAST-MODIFIED:20251227T184826Z
UID:10004891-1750089600-1750093200@mcbridelibrary.org
SUMMARY:Books & Barkers
DESCRIPTION:Dogs LOVE to be read to and they are very good listeners. Take time to build literacy skills\, confidence\, and patience with a therapy dog at the library. \nAges 5–12 \n4:00–5:00pm \n  \n 
URL:https://mcbridelibrary.org/event/books-barkers-2/2025-06-16/
LOCATION:Children’s Library\, second floor
ATTACH;FMTTYPE=image/png:https://mcbridelibrary.org/wp-content/uploads/2025/04/rsz_1booksnbarkerslogo.png
END:VEVENT
BEGIN:VEVENT
DTSTART;TZID=America/New_York:20250609T160000
DTEND;TZID=America/New_York:20250609T170000
DTSTAMP:20260421T130934
CREATED:20250430T015518Z
LAST-MODIFIED:20251227T184826Z
UID:10004890-1749484800-1749488400@mcbridelibrary.org
SUMMARY:Books & Barkers
DESCRIPTION:Dogs LOVE to be read to and they are very good listeners. Take time to build literacy skills\, confidence\, and patience with a therapy dog at the library. \nAges 5–12 \n4:00–5:00pm \n  \n 
URL:https://mcbridelibrary.org/event/books-barkers-2/2025-06-09/
LOCATION:Children’s Library\, second floor
ATTACH;FMTTYPE=image/png:https://mcbridelibrary.org/wp-content/uploads/2025/04/rsz_1booksnbarkerslogo.png
END:VEVENT
BEGIN:VEVENT
DTSTART;TZID=America/New_York:20250602T160000
DTEND;TZID=America/New_York:20250602T170000
DTSTAMP:20260421T130934
CREATED:20250430T015518Z
LAST-MODIFIED:20251227T184826Z
UID:10004889-1748880000-1748883600@mcbridelibrary.org
SUMMARY:Books & Barkers
DESCRIPTION:Dogs LOVE to be read to and they are very good listeners. Take time to build literacy skills\, confidence\, and patience with a therapy dog at the library. \nAges 5–12 \n4:00–5:00pm \n  \n 
URL:https://mcbridelibrary.org/event/books-barkers-2/2025-06-02/
LOCATION:Children’s Library\, second floor
ATTACH;FMTTYPE=image/png:https://mcbridelibrary.org/wp-content/uploads/2025/04/rsz_1booksnbarkerslogo.png
END:VEVENT
END:VCALENDAR