BEGIN:VCALENDAR
VERSION:2.0
PRODID:-//McBride Memorial Library - ECPv6.15.15//NONSGML v1.0//EN
CALSCALE:GREGORIAN
METHOD:PUBLISH
X-ORIGINAL-URL:https://mcbridelibrary.org
X-WR-CALDESC:Events for McBride Memorial Library
REFRESH-INTERVAL;VALUE=DURATION:PT1H
X-Robots-Tag:noindex
X-PUBLISHED-TTL:PT1H
BEGIN:VTIMEZONE
TZID:America/New_York
BEGIN:DAYLIGHT
TZOFFSETFROM:-0500
TZOFFSETTO:-0400
TZNAME:EDT
DTSTART:20240310T070000
END:DAYLIGHT
BEGIN:STANDARD
TZOFFSETFROM:-0400
TZOFFSETTO:-0500
TZNAME:EST
DTSTART:20241103T060000
END:STANDARD
BEGIN:DAYLIGHT
TZOFFSETFROM:-0500
TZOFFSETTO:-0400
TZNAME:EDT
DTSTART:20250309T070000
END:DAYLIGHT
BEGIN:STANDARD
TZOFFSETFROM:-0400
TZOFFSETTO:-0500
TZNAME:EST
DTSTART:20251102T060000
END:STANDARD
BEGIN:DAYLIGHT
TZOFFSETFROM:-0500
TZOFFSETTO:-0400
TZNAME:EDT
DTSTART:20260308T070000
END:DAYLIGHT
BEGIN:STANDARD
TZOFFSETFROM:-0400
TZOFFSETTO:-0500
TZNAME:EST
DTSTART:20261101T060000
END:STANDARD
BEGIN:DAYLIGHT
TZOFFSETFROM:-0500
TZOFFSETTO:-0400
TZNAME:EDT
DTSTART:20270314T070000
END:DAYLIGHT
BEGIN:STANDARD
TZOFFSETFROM:-0400
TZOFFSETTO:-0500
TZNAME:EST
DTSTART:20271107T060000
END:STANDARD
END:VTIMEZONE
BEGIN:VEVENT
DTSTART;TZID=America/New_York:20260203T170000
DTEND;TZID=America/New_York:20260203T180000
DTSTAMP:20260421T232041
CREATED:20251227T203147Z
LAST-MODIFIED:20260126T213251Z
UID:10005652-1770138000-1770141600@mcbridelibrary.org
SUMMARY:Nutrition Workshop
DESCRIPTION:You are invited to a health literacy program presented by Weis Market dietician Melissa Logan. On the first Tuesday of the month\, 5:00–6:00 pm\, learn about nutritional concepts influencing the decisions we make about food.
URL:https://mcbridelibrary.org/event/nutrition-workshop/2026-02-03/
LOCATION:Community Room\, second floor
ATTACH;FMTTYPE=image/png:https://mcbridelibrary.org/wp-content/uploads/2026/01/Your-paragraph-text-2.png
END:VEVENT
BEGIN:VEVENT
DTSTART;TZID=America/New_York:20260203T120000
DTEND;TZID=America/New_York:20260203T130000
DTSTAMP:20260421T232041
CREATED:20251227T215555Z
LAST-MODIFIED:20260205T040256Z
UID:10006362-1770120000-1770123600@mcbridelibrary.org
SUMMARY:Play and Learn
DESCRIPTION:For parents/caregivers (18 & up) and preschoolers (birth-3). \nPLAY and LEARN offers five-weeks of parent-child workshops to parents and their newborn to 3-year-old children featuring weekly themes. \nThe community room is set up as a hands-on playroom! Just drop in with your baby. \nA community expert will be on hand every week to share information about the vast resources available to families in our area. \nTHEMES: \n\nEarly Literacy\nSpeech\, Hearing\, & Language Development\nEarly Child DevelopmentNutrition\nMusic & Movement\n\nMcBride is proud to be a Family Place LibraryTM.
URL:https://mcbridelibrary.org/event/play-and-learn-2/2026-02-03/
LOCATION:Community Room\, second floor
ATTACH;FMTTYPE=image/jpeg:https://mcbridelibrary.org/wp-content/uploads/2024/12/Family-Place.jpg
END:VEVENT
BEGIN:VEVENT
DTSTART;TZID=America/New_York:20260120T173000
DTEND;TZID=America/New_York:20260120T190000
DTSTAMP:20260421T232041
CREATED:20251227T213527Z
LAST-MODIFIED:20260126T214602Z
UID:10006357-1768930200-1768935600@mcbridelibrary.org
SUMMARY:Self-Sustainable Series
DESCRIPTION:Save money and gain confidence by learning to be self-sustainable; in other words—learn to do it yourself! Every month a different skill aimed at making you independent will be taught. \n\nDo you know how to make a budget and handle your money?\nDo you know how to mend your clothes to make them last longer?\nHave you ever wanted to learn vegetable gardening\, foraging\, or food preservation?\n\nKeep an eye on this series for a variety of self-sustaining sessions. \nJanuary guest instructor\, Barb Kleckner\, will provide guidance in creating a custom budget to track income\, expenses\, and savings to ensure that your money is being used to meet your needs and achieve your goals.
URL:https://mcbridelibrary.org/event/self-sustainable-series/
LOCATION:Community Room\, second floor
ATTACH;FMTTYPE=image/png:https://mcbridelibrary.org/wp-content/uploads/2026/01/website-logos.png
END:VEVENT
BEGIN:VEVENT
DTSTART;TZID=America/New_York:20260106T170000
DTEND;TZID=America/New_York:20260106T180000
DTSTAMP:20260421T232041
CREATED:20251227T203147Z
LAST-MODIFIED:20260126T213251Z
UID:10005651-1767718800-1767722400@mcbridelibrary.org
SUMMARY:Nutrition Workshop
DESCRIPTION:You are invited to a health literacy program presented by Weis Market dietician Melissa Logan. On the first Tuesday of the month\, 5:00–6:00 pm\, learn about nutritional concepts influencing the decisions we make about food.
URL:https://mcbridelibrary.org/event/nutrition-workshop/2026-01-06/
LOCATION:Community Room\, second floor
ATTACH;FMTTYPE=image/png:https://mcbridelibrary.org/wp-content/uploads/2026/01/Your-paragraph-text-2.png
END:VEVENT
BEGIN:VEVENT
DTSTART;TZID=America/New_York:20251124T063000
DTEND;TZID=America/New_York:20251124T080000
DTSTAMP:20260421T232041
CREATED:20250826T225348Z
LAST-MODIFIED:20251001T220333Z
UID:10003394-1763965800-1763971200@mcbridelibrary.org
SUMMARY:Story Time
DESCRIPTION:Traditional story time with read aloud\, songs\, fingerplays\, and movement.
URL:https://mcbridelibrary.org/event/story-time-19/2025-11-24/
LOCATION:Community Room\, second floor
ATTACH;FMTTYPE=image/png:https://mcbridelibrary.org/wp-content/uploads/2025/09/ST.png
END:VEVENT
BEGIN:VEVENT
DTSTART;TZID=America/New_York:20251120T053000
DTEND;TZID=America/New_York:20251120T070000
DTSTAMP:20260421T232041
CREATED:20250826T230652Z
LAST-MODIFIED:20251001T220128Z
UID:10003383-1763616600-1763622000@mcbridelibrary.org
SUMMARY:Story Time
DESCRIPTION:Traditional story time with read aloud\, songs\, fingerplays\, and movement.
URL:https://mcbridelibrary.org/event/story-time-18-2/2025-11-20/
LOCATION:Community Room\, second floor
ATTACH;FMTTYPE=image/png:https://mcbridelibrary.org/wp-content/uploads/2025/09/ST.png
END:VEVENT
BEGIN:VEVENT
DTSTART;TZID=America/New_York:20251117T063000
DTEND;TZID=America/New_York:20251117T080000
DTSTAMP:20260421T232041
CREATED:20250826T225348Z
LAST-MODIFIED:20251001T220333Z
UID:10003393-1763361000-1763366400@mcbridelibrary.org
SUMMARY:Story Time
DESCRIPTION:Traditional story time with read aloud\, songs\, fingerplays\, and movement.
URL:https://mcbridelibrary.org/event/story-time-19/2025-11-17/
LOCATION:Community Room\, second floor
ATTACH;FMTTYPE=image/png:https://mcbridelibrary.org/wp-content/uploads/2025/09/ST.png
END:VEVENT
BEGIN:VEVENT
DTSTART;TZID=America/New_York:20251113T053000
DTEND;TZID=America/New_York:20251113T070000
DTSTAMP:20260421T232041
CREATED:20250826T230652Z
LAST-MODIFIED:20251001T220128Z
UID:10003382-1763011800-1763017200@mcbridelibrary.org
SUMMARY:Story Time
DESCRIPTION:Traditional story time with read aloud\, songs\, fingerplays\, and movement.
URL:https://mcbridelibrary.org/event/story-time-18-2/2025-11-13/
LOCATION:Community Room\, second floor
ATTACH;FMTTYPE=image/png:https://mcbridelibrary.org/wp-content/uploads/2025/09/ST.png
END:VEVENT
BEGIN:VEVENT
DTSTART;TZID=America/New_York:20251110T063000
DTEND;TZID=America/New_York:20251110T080000
DTSTAMP:20260421T232041
CREATED:20250826T225348Z
LAST-MODIFIED:20251001T220333Z
UID:10003392-1762756200-1762761600@mcbridelibrary.org
SUMMARY:Story Time
DESCRIPTION:Traditional story time with read aloud\, songs\, fingerplays\, and movement.
URL:https://mcbridelibrary.org/event/story-time-19/2025-11-10/
LOCATION:Community Room\, second floor
ATTACH;FMTTYPE=image/png:https://mcbridelibrary.org/wp-content/uploads/2025/09/ST.png
END:VEVENT
BEGIN:VEVENT
DTSTART;TZID=America/New_York:20251106T053000
DTEND;TZID=America/New_York:20251106T070000
DTSTAMP:20260421T232041
CREATED:20250826T230652Z
LAST-MODIFIED:20251001T220128Z
UID:10003381-1762407000-1762412400@mcbridelibrary.org
SUMMARY:Story Time
DESCRIPTION:Traditional story time with read aloud\, songs\, fingerplays\, and movement.
URL:https://mcbridelibrary.org/event/story-time-18-2/2025-11-06/
LOCATION:Community Room\, second floor
ATTACH;FMTTYPE=image/png:https://mcbridelibrary.org/wp-content/uploads/2025/09/ST.png
END:VEVENT
BEGIN:VEVENT
DTSTART;TZID=America/New_York:20251103T063000
DTEND;TZID=America/New_York:20251103T080000
DTSTAMP:20260421T232041
CREATED:20250826T225348Z
LAST-MODIFIED:20251001T220333Z
UID:10003391-1762151400-1762156800@mcbridelibrary.org
SUMMARY:Story Time
DESCRIPTION:Traditional story time with read aloud\, songs\, fingerplays\, and movement.
URL:https://mcbridelibrary.org/event/story-time-19/2025-11-03/
LOCATION:Community Room\, second floor
ATTACH;FMTTYPE=image/png:https://mcbridelibrary.org/wp-content/uploads/2025/09/ST.png
END:VEVENT
BEGIN:VEVENT
DTSTART;TZID=America/New_York:20251030T063000
DTEND;TZID=America/New_York:20251030T080000
DTSTAMP:20260421T232041
CREATED:20250826T230652Z
LAST-MODIFIED:20251001T220128Z
UID:10003380-1761805800-1761811200@mcbridelibrary.org
SUMMARY:Story Time
DESCRIPTION:Traditional story time with read aloud\, songs\, fingerplays\, and movement.
URL:https://mcbridelibrary.org/event/story-time-18-2/2025-10-30/
LOCATION:Community Room\, second floor
ATTACH;FMTTYPE=image/png:https://mcbridelibrary.org/wp-content/uploads/2025/09/ST.png
END:VEVENT
BEGIN:VEVENT
DTSTART;TZID=America/New_York:20251029T123000
DTEND;TZID=America/New_York:20251029T133000
DTSTAMP:20260421T232041
CREATED:20250826T232710Z
LAST-MODIFIED:20251001T221111Z
UID:10003404-1761741000-1761744600@mcbridelibrary.org
SUMMARY:Play & Learn
DESCRIPTION:For adults (18 & up) \nFor preschoolers (birth-4) \nMcBride is proud to be a Family Place LibraryTM. Parent-Child Workshops offer a five-week program to parents and their newborn–3-year-old children featuring weekly themes: Early Literacy; Speech\, Hearing\, & Language Development; Early Child Development; Nutrition; and Music & Movement. The community room is set up as a hands-on playroom! A community expert will be on hand every week to share information about the vast resources available to families in our area.
URL:https://mcbridelibrary.org/event/play-learn-2/2025-10-29/
LOCATION:Community Room\, second floor
ATTACH;FMTTYPE=image/jpeg:https://mcbridelibrary.org/wp-content/uploads/2024/12/Family-Place.jpg
END:VEVENT
BEGIN:VEVENT
DTSTART;TZID=America/New_York:20251029T080000
DTEND;TZID=America/New_York:20251029T100000
DTSTAMP:20260421T232041
CREATED:20250618T010545Z
LAST-MODIFIED:20250904T193302Z
UID:10003232-1761724800-1761732000@mcbridelibrary.org
SUMMARY:The Traveling Art Hive
DESCRIPTION:Do you like art and crafts? Looking for community? Free event? Come join the traveling art hive! \nWhat is an art hive? An art hive is a community art studio that welcomes everyone as an artist. An Art Hive is about inclusion\, respect\, and learning. It is a welcoming place to make art and build community\, responding in creative ways to things that matter. (arthives.org)  \nSupplies are provided. You come and choose how you’d like to work with them. Everyone is welcome; artists and non artists alike. All ages. Hope to see you there! \nFacilitated by local artist\, Nikki Sunday and sponsored by the Berwick Arts Association.
URL:https://mcbridelibrary.org/event/the-traveling-art-hive-4/
LOCATION:Community Room\, second floor
ATTACH;FMTTYPE=image/jpeg:https://mcbridelibrary.org/wp-content/uploads/2025/06/Berwick-Art-Hive-5.jpg
END:VEVENT
BEGIN:VEVENT
DTSTART;TZID=America/New_York:20251027T073000
DTEND;TZID=America/New_York:20251027T090000
DTSTAMP:20260421T232041
CREATED:20250826T225348Z
LAST-MODIFIED:20251001T220333Z
UID:10003390-1761550200-1761555600@mcbridelibrary.org
SUMMARY:Story Time
DESCRIPTION:Traditional story time with read aloud\, songs\, fingerplays\, and movement.
URL:https://mcbridelibrary.org/event/story-time-19/2025-10-27/
LOCATION:Community Room\, second floor
ATTACH;FMTTYPE=image/png:https://mcbridelibrary.org/wp-content/uploads/2025/09/ST.png
END:VEVENT
BEGIN:VEVENT
DTSTART;TZID=America/New_York:20251023T063000
DTEND;TZID=America/New_York:20251023T080000
DTSTAMP:20260421T232041
CREATED:20250826T230652Z
LAST-MODIFIED:20251001T220128Z
UID:10003379-1761201000-1761206400@mcbridelibrary.org
SUMMARY:Story Time
DESCRIPTION:Traditional story time with read aloud\, songs\, fingerplays\, and movement.
URL:https://mcbridelibrary.org/event/story-time-18-2/2025-10-23/
LOCATION:Community Room\, second floor
ATTACH;FMTTYPE=image/png:https://mcbridelibrary.org/wp-content/uploads/2025/09/ST.png
END:VEVENT
BEGIN:VEVENT
DTSTART;TZID=America/New_York:20251022T123000
DTEND;TZID=America/New_York:20251022T133000
DTSTAMP:20260421T232041
CREATED:20250826T232710Z
LAST-MODIFIED:20251001T221111Z
UID:10003403-1761136200-1761139800@mcbridelibrary.org
SUMMARY:Play & Learn
DESCRIPTION:For adults (18 & up) \nFor preschoolers (birth-4) \nMcBride is proud to be a Family Place LibraryTM. Parent-Child Workshops offer a five-week program to parents and their newborn–3-year-old children featuring weekly themes: Early Literacy; Speech\, Hearing\, & Language Development; Early Child Development; Nutrition; and Music & Movement. The community room is set up as a hands-on playroom! A community expert will be on hand every week to share information about the vast resources available to families in our area.
URL:https://mcbridelibrary.org/event/play-learn-2/2025-10-22/
LOCATION:Community Room\, second floor
ATTACH;FMTTYPE=image/jpeg:https://mcbridelibrary.org/wp-content/uploads/2024/12/Family-Place.jpg
END:VEVENT
BEGIN:VEVENT
DTSTART;TZID=America/New_York:20251020T073000
DTEND;TZID=America/New_York:20251020T090000
DTSTAMP:20260421T232041
CREATED:20250826T225348Z
LAST-MODIFIED:20251001T220333Z
UID:10003389-1760945400-1760950800@mcbridelibrary.org
SUMMARY:Story Time
DESCRIPTION:Traditional story time with read aloud\, songs\, fingerplays\, and movement.
URL:https://mcbridelibrary.org/event/story-time-19/2025-10-20/
LOCATION:Community Room\, second floor
ATTACH;FMTTYPE=image/png:https://mcbridelibrary.org/wp-content/uploads/2025/09/ST.png
END:VEVENT
BEGIN:VEVENT
DTSTART;TZID=America/New_York:20251016T063000
DTEND;TZID=America/New_York:20251016T080000
DTSTAMP:20260421T232041
CREATED:20250826T230652Z
LAST-MODIFIED:20251001T220128Z
UID:10003378-1760596200-1760601600@mcbridelibrary.org
SUMMARY:Story Time
DESCRIPTION:Traditional story time with read aloud\, songs\, fingerplays\, and movement.
URL:https://mcbridelibrary.org/event/story-time-18-2/2025-10-16/
LOCATION:Community Room\, second floor
ATTACH;FMTTYPE=image/png:https://mcbridelibrary.org/wp-content/uploads/2025/09/ST.png
END:VEVENT
BEGIN:VEVENT
DTSTART;TZID=America/New_York:20251015T123000
DTEND;TZID=America/New_York:20251015T133000
DTSTAMP:20260421T232041
CREATED:20250826T232710Z
LAST-MODIFIED:20251001T221111Z
UID:10003402-1760531400-1760535000@mcbridelibrary.org
SUMMARY:Play & Learn
DESCRIPTION:For adults (18 & up) \nFor preschoolers (birth-4) \nMcBride is proud to be a Family Place LibraryTM. Parent-Child Workshops offer a five-week program to parents and their newborn–3-year-old children featuring weekly themes: Early Literacy; Speech\, Hearing\, & Language Development; Early Child Development; Nutrition; and Music & Movement. The community room is set up as a hands-on playroom! A community expert will be on hand every week to share information about the vast resources available to families in our area.
URL:https://mcbridelibrary.org/event/play-learn-2/2025-10-15/
LOCATION:Community Room\, second floor
ATTACH;FMTTYPE=image/jpeg:https://mcbridelibrary.org/wp-content/uploads/2024/12/Family-Place.jpg
END:VEVENT
BEGIN:VEVENT
DTSTART;TZID=America/New_York:20251013T073000
DTEND;TZID=America/New_York:20251013T090000
DTSTAMP:20260421T232041
CREATED:20250826T225348Z
LAST-MODIFIED:20251001T220333Z
UID:10003388-1760340600-1760346000@mcbridelibrary.org
SUMMARY:Story Time
DESCRIPTION:Traditional story time with read aloud\, songs\, fingerplays\, and movement.
URL:https://mcbridelibrary.org/event/story-time-19/2025-10-13/
LOCATION:Community Room\, second floor
ATTACH;FMTTYPE=image/png:https://mcbridelibrary.org/wp-content/uploads/2025/09/ST.png
END:VEVENT
BEGIN:VEVENT
DTSTART;TZID=America/New_York:20251009T063000
DTEND;TZID=America/New_York:20251009T080000
DTSTAMP:20260421T232041
CREATED:20250826T230652Z
LAST-MODIFIED:20251001T220128Z
UID:10003377-1759991400-1759996800@mcbridelibrary.org
SUMMARY:Story Time
DESCRIPTION:Traditional story time with read aloud\, songs\, fingerplays\, and movement.
URL:https://mcbridelibrary.org/event/story-time-18-2/2025-10-09/
LOCATION:Community Room\, second floor
ATTACH;FMTTYPE=image/png:https://mcbridelibrary.org/wp-content/uploads/2025/09/ST.png
END:VEVENT
BEGIN:VEVENT
DTSTART;TZID=America/New_York:20251008T123000
DTEND;TZID=America/New_York:20251008T133000
DTSTAMP:20260421T232041
CREATED:20250826T232710Z
LAST-MODIFIED:20251001T221111Z
UID:10003401-1759926600-1759930200@mcbridelibrary.org
SUMMARY:Play & Learn
DESCRIPTION:For adults (18 & up) \nFor preschoolers (birth-4) \nMcBride is proud to be a Family Place LibraryTM. Parent-Child Workshops offer a five-week program to parents and their newborn–3-year-old children featuring weekly themes: Early Literacy; Speech\, Hearing\, & Language Development; Early Child Development; Nutrition; and Music & Movement. The community room is set up as a hands-on playroom! A community expert will be on hand every week to share information about the vast resources available to families in our area.
URL:https://mcbridelibrary.org/event/play-learn-2/2025-10-08/
LOCATION:Community Room\, second floor
ATTACH;FMTTYPE=image/jpeg:https://mcbridelibrary.org/wp-content/uploads/2024/12/Family-Place.jpg
END:VEVENT
BEGIN:VEVENT
DTSTART;TZID=America/New_York:20251006T130000
DTEND;TZID=America/New_York:20251006T143000
DTSTAMP:20260421T232041
CREATED:20250820T185704Z
LAST-MODIFIED:20250820T185704Z
UID:10003233-1759755600-1759761000@mcbridelibrary.org
SUMMARY:Pennsylvania Bats\, Presented by the PA Game Commission
DESCRIPTION:McBride Memorial Library has invited the Pennsylvania Game Commission to the library for an educational PA wildlife program. Spend an evening learning about the different species of bat inhabitants in our area. We will take a deep dive into myths and truths of this animal and discuss its cultural importance to different groups around the world. Learn about conservation efforts and discover ways in which you can participate in the Appalachian Bat Count program. \nDisclaimer: No live animals will appear at this program. \n  \nRegistration not required.\nTarget Age: General Interest\, all ages are welcome to attend
URL:https://mcbridelibrary.org/event/pennsylvania-bats-presented-by-the-pa-game-commission/
LOCATION:Community Room\, second floor
ATTACH;FMTTYPE=image/jpeg:https://mcbridelibrary.org/wp-content/uploads/2025/08/game-commission.jpg
END:VEVENT
BEGIN:VEVENT
DTSTART;TZID=America/New_York:20251006T073000
DTEND;TZID=America/New_York:20251006T090000
DTSTAMP:20260421T232041
CREATED:20250826T225348Z
LAST-MODIFIED:20251001T220333Z
UID:10003387-1759735800-1759741200@mcbridelibrary.org
SUMMARY:Story Time
DESCRIPTION:Traditional story time with read aloud\, songs\, fingerplays\, and movement.
URL:https://mcbridelibrary.org/event/story-time-19/2025-10-06/
LOCATION:Community Room\, second floor
ATTACH;FMTTYPE=image/png:https://mcbridelibrary.org/wp-content/uploads/2025/09/ST.png
END:VEVENT
BEGIN:VEVENT
DTSTART;TZID=America/New_York:20251002T063000
DTEND;TZID=America/New_York:20251002T080000
DTSTAMP:20260421T232041
CREATED:20250826T230652Z
LAST-MODIFIED:20251001T220128Z
UID:10003376-1759386600-1759392000@mcbridelibrary.org
SUMMARY:Story Time
DESCRIPTION:Traditional story time with read aloud\, songs\, fingerplays\, and movement.
URL:https://mcbridelibrary.org/event/story-time-18-2/2025-10-02/
LOCATION:Community Room\, second floor
ATTACH;FMTTYPE=image/png:https://mcbridelibrary.org/wp-content/uploads/2025/09/ST.png
END:VEVENT
BEGIN:VEVENT
DTSTART;TZID=America/New_York:20251001T123000
DTEND;TZID=America/New_York:20251001T133000
DTSTAMP:20260421T232041
CREATED:20250826T232710Z
LAST-MODIFIED:20251001T221111Z
UID:10003400-1759321800-1759325400@mcbridelibrary.org
SUMMARY:Play & Learn
DESCRIPTION:For adults (18 & up) \nFor preschoolers (birth-4) \nMcBride is proud to be a Family Place LibraryTM. Parent-Child Workshops offer a five-week program to parents and their newborn–3-year-old children featuring weekly themes: Early Literacy; Speech\, Hearing\, & Language Development; Early Child Development; Nutrition; and Music & Movement. The community room is set up as a hands-on playroom! A community expert will be on hand every week to share information about the vast resources available to families in our area.
URL:https://mcbridelibrary.org/event/play-learn-2/2025-10-01/
LOCATION:Community Room\, second floor
ATTACH;FMTTYPE=image/jpeg:https://mcbridelibrary.org/wp-content/uploads/2024/12/Family-Place.jpg
END:VEVENT
BEGIN:VEVENT
DTSTART;TZID=America/New_York:20250929T073000
DTEND;TZID=America/New_York:20250929T090000
DTSTAMP:20260421T232041
CREATED:20250826T225348Z
LAST-MODIFIED:20251001T220333Z
UID:10003386-1759131000-1759136400@mcbridelibrary.org
SUMMARY:Story Time
DESCRIPTION:Traditional story time with read aloud\, songs\, fingerplays\, and movement.
URL:https://mcbridelibrary.org/event/story-time-19/2025-09-29/
LOCATION:Community Room\, second floor
ATTACH;FMTTYPE=image/png:https://mcbridelibrary.org/wp-content/uploads/2025/09/ST.png
END:VEVENT
BEGIN:VEVENT
DTSTART;TZID=America/New_York:20250925T063000
DTEND;TZID=America/New_York:20250925T080000
DTSTAMP:20260421T232041
CREATED:20250826T230652Z
LAST-MODIFIED:20251001T220128Z
UID:10003375-1758781800-1758787200@mcbridelibrary.org
SUMMARY:Story Time
DESCRIPTION:Traditional story time with read aloud\, songs\, fingerplays\, and movement.
URL:https://mcbridelibrary.org/event/story-time-18-2/2025-09-25/
LOCATION:Community Room\, second floor
ATTACH;FMTTYPE=image/png:https://mcbridelibrary.org/wp-content/uploads/2025/09/ST.png
END:VEVENT
BEGIN:VEVENT
DTSTART;TZID=America/New_York:20250924T080000
DTEND;TZID=America/New_York:20250924T100000
DTSTAMP:20260421T232041
CREATED:20250618T010118Z
LAST-MODIFIED:20250904T193228Z
UID:10003231-1758700800-1758708000@mcbridelibrary.org
SUMMARY:The Traveling Art Hive
DESCRIPTION:Do you like art and crafts? Looking for community? Free event? Come join the traveling art hive! \nWhat is an art hive? An art hive is a community art studio that welcomes everyone as an artist. An Art Hive is about inclusion\, respect\, and learning. It is a welcoming place to make art and build community\, responding in creative ways to things that matter. (arthives.org)  \nSupplies are provided. You come and choose how you’d like to work with them. Everyone is welcome; artists and non artists alike. All ages. Hope to see you there! \nFacilitated by local artist\, Nikki Sunday and sponsored by the Berwick Arts Association.
URL:https://mcbridelibrary.org/event/the-traveling-art-hive-3/
LOCATION:Community Room\, second floor
ATTACH;FMTTYPE=image/jpeg:https://mcbridelibrary.org/wp-content/uploads/2025/06/Berwick-Art-Hive-4.jpg
END:VEVENT
END:VCALENDAR