BEGIN:VCALENDAR
VERSION:2.0
PRODID:-//McBride Memorial Library - ECPv6.15.15//NONSGML v1.0//EN
CALSCALE:GREGORIAN
METHOD:PUBLISH
X-ORIGINAL-URL:https://mcbridelibrary.org
X-WR-CALDESC:Events for McBride Memorial Library
REFRESH-INTERVAL;VALUE=DURATION:PT1H
X-Robots-Tag:noindex
X-PUBLISHED-TTL:PT1H
BEGIN:VTIMEZONE
TZID:America/New_York
BEGIN:DAYLIGHT
TZOFFSETFROM:-0500
TZOFFSETTO:-0400
TZNAME:EDT
DTSTART:20240310T070000
END:DAYLIGHT
BEGIN:STANDARD
TZOFFSETFROM:-0400
TZOFFSETTO:-0500
TZNAME:EST
DTSTART:20241103T060000
END:STANDARD
BEGIN:DAYLIGHT
TZOFFSETFROM:-0500
TZOFFSETTO:-0400
TZNAME:EDT
DTSTART:20250309T070000
END:DAYLIGHT
BEGIN:STANDARD
TZOFFSETFROM:-0400
TZOFFSETTO:-0500
TZNAME:EST
DTSTART:20251102T060000
END:STANDARD
BEGIN:DAYLIGHT
TZOFFSETFROM:-0500
TZOFFSETTO:-0400
TZNAME:EDT
DTSTART:20260308T070000
END:DAYLIGHT
BEGIN:STANDARD
TZOFFSETFROM:-0400
TZOFFSETTO:-0500
TZNAME:EST
DTSTART:20261101T060000
END:STANDARD
END:VTIMEZONE
BEGIN:VEVENT
DTSTART;TZID=America/New_York:20250621T070000
DTEND;TZID=America/New_York:20250621T100000
DTSTAMP:20260422T062351
CREATED:20250426T190307Z
LAST-MODIFIED:20250610T014205Z
UID:10002177-1750489200-1750500000@mcbridelibrary.org
SUMMARY:Painting Class with Andi Brady
DESCRIPTION:Unleash your inner artist with Andi Brady from A Brady Art Studio. No experience necessary – all skill levels are welcome! There is a fee for this class. Supplies will be provided\, just bring your creativity and enthusiasm. Relax\, socialize\, and create a masterpiece to take home. Sign up and make payment at www.abradyartstudio.com/events . \n(Each class will have a different painting and the cost varies. Payment can only be made to Andrea Brady. The Library is not responsible for payment(s) or class reservation.)
URL:https://mcbridelibrary.org/event/painting-class-with-andi-brady-2/
LOCATION:Community Room\, second floor
ATTACH;FMTTYPE=image/png:https://mcbridelibrary.org/wp-content/uploads/2025/06/Andi-Brady.png
END:VEVENT
BEGIN:VEVENT
DTSTART;TZID=America/New_York:20250503T070000
DTEND;TZID=America/New_York:20250503T100000
DTSTAMP:20260422T062351
CREATED:20250426T190050Z
LAST-MODIFIED:20250610T014251Z
UID:10002176-1746255600-1746266400@mcbridelibrary.org
SUMMARY:Painting Class with Andi Brady
DESCRIPTION:Unleash your inner artist with Andi Brady from A Brady Art Studio. No experience necessary – all skill levels are welcome! There is a fee for this class. Supplies will be provided\, just bring your creativity and enthusiasm. Relax\, socialize\, and create a masterpiece to take home. Sign up and make payment at www.abradyartstudio.com/events . \n(Each class will have a different painting and the cost varies. Payment can only be made to Andrea Brady. The Library is not responsible for payment(s) or class reservation.)
URL:https://mcbridelibrary.org/event/painting-class-with-andi-brady/
LOCATION:Community Room\, second floor
ATTACH;FMTTYPE=image/png:https://mcbridelibrary.org/wp-content/uploads/2025/06/Andi-Brady.png
END:VEVENT
END:VCALENDAR