BEGIN:VCALENDAR
VERSION:2.0
PRODID:-//McBride Memorial Library - ECPv6.15.15//NONSGML v1.0//EN
CALSCALE:GREGORIAN
METHOD:PUBLISH
X-WR-CALNAME:McBride Memorial Library
X-ORIGINAL-URL:https://mcbridelibrary.org
X-WR-CALDESC:Events for McBride Memorial Library
REFRESH-INTERVAL;VALUE=DURATION:PT1H
X-Robots-Tag:noindex
X-PUBLISHED-TTL:PT1H
BEGIN:VTIMEZONE
TZID:America/New_York
BEGIN:DAYLIGHT
TZOFFSETFROM:-0500
TZOFFSETTO:-0400
TZNAME:EDT
DTSTART:20240310T070000
END:DAYLIGHT
BEGIN:STANDARD
TZOFFSETFROM:-0400
TZOFFSETTO:-0500
TZNAME:EST
DTSTART:20241103T060000
END:STANDARD
BEGIN:DAYLIGHT
TZOFFSETFROM:-0500
TZOFFSETTO:-0400
TZNAME:EDT
DTSTART:20250309T070000
END:DAYLIGHT
BEGIN:STANDARD
TZOFFSETFROM:-0400
TZOFFSETTO:-0500
TZNAME:EST
DTSTART:20251102T060000
END:STANDARD
BEGIN:DAYLIGHT
TZOFFSETFROM:-0500
TZOFFSETTO:-0400
TZNAME:EDT
DTSTART:20260308T070000
END:DAYLIGHT
BEGIN:STANDARD
TZOFFSETFROM:-0400
TZOFFSETTO:-0500
TZNAME:EST
DTSTART:20261101T060000
END:STANDARD
END:VTIMEZONE
BEGIN:VEVENT
DTSTART;TZID=America/New_York:20251129T133000
DTEND;TZID=America/New_York:20251129T143000
DTSTAMP:20260423T073935
CREATED:20250827T001956Z
LAST-MODIFIED:20251227T220608Z
UID:10004741-1764423000-1764426600@mcbridelibrary.org
SUMMARY:Computer Class
DESCRIPTION:Drop in: Tuesdays 6:00–8:00 pm and Saturdays 1:00–4:00 pm. Register: Saturday computer classes for beginners are held 1:30–2:30 pm. \nComputer use is a skill learned little by little. If you are stuck or need to learn how to accomplish something on the computer\, consider dropping in Tuesday evening or Saturday afternoon for assistance\, or registering for a Saturday class. \nFree Saturday classes for beginners require registration. Call the library at 570-752-2241 or register online HERE.
URL:https://mcbridelibrary.org/event/computer-assistance-2/2025-11-29/
LOCATION:Computer Lab
ATTACH;FMTTYPE=image/png:https://mcbridelibrary.org/wp-content/uploads/2025/08/Untitled-design-8.png
END:VEVENT
BEGIN:VEVENT
DTSTART;TZID=America/New_York:20251125T180000
DTEND;TZID=America/New_York:20251125T200000
DTSTAMP:20260423T073935
CREATED:20250827T001251Z
LAST-MODIFIED:20251227T184522Z
UID:10004811-1764093600-1764100800@mcbridelibrary.org
SUMMARY:Computer Assistance
DESCRIPTION:Drop in: Tuesdays 6:00–8:00 pm and Saturdays 1:00–4:00 pm. Register: Saturday computer classes for beginners are held 1:30–2:30 pm. \nComputer use is a skill learned little by little. If you are stuck or need to learn how to accomplish something on the computer\, consider dropping in Tuesday evening or Saturday afternoon for assistance\, or registering for a Saturday class. \nFree Saturday classes for beginners require registration. Call the library at 570-752-2241 or register online HERE.
URL:https://mcbridelibrary.org/event/computer-assistance/2025-11-25/
LOCATION:Computer Lab
ATTACH;FMTTYPE=image/png:https://mcbridelibrary.org/wp-content/uploads/2025/08/Untitled-design-8.png
END:VEVENT
BEGIN:VEVENT
DTSTART;TZID=America/New_York:20251122T133000
DTEND;TZID=America/New_York:20251122T143000
DTSTAMP:20260423T073935
CREATED:20250827T001956Z
LAST-MODIFIED:20251227T220608Z
UID:10004740-1763818200-1763821800@mcbridelibrary.org
SUMMARY:Computer Class
DESCRIPTION:Drop in: Tuesdays 6:00–8:00 pm and Saturdays 1:00–4:00 pm. Register: Saturday computer classes for beginners are held 1:30–2:30 pm. \nComputer use is a skill learned little by little. If you are stuck or need to learn how to accomplish something on the computer\, consider dropping in Tuesday evening or Saturday afternoon for assistance\, or registering for a Saturday class. \nFree Saturday classes for beginners require registration. Call the library at 570-752-2241 or register online HERE.
URL:https://mcbridelibrary.org/event/computer-assistance-2/2025-11-22/
LOCATION:Computer Lab
ATTACH;FMTTYPE=image/png:https://mcbridelibrary.org/wp-content/uploads/2025/08/Untitled-design-8.png
END:VEVENT
BEGIN:VEVENT
DTSTART;TZID=America/New_York:20251118T180000
DTEND;TZID=America/New_York:20251118T200000
DTSTAMP:20260423T073935
CREATED:20250827T001251Z
LAST-MODIFIED:20251227T184522Z
UID:10004810-1763488800-1763496000@mcbridelibrary.org
SUMMARY:Computer Assistance
DESCRIPTION:Drop in: Tuesdays 6:00–8:00 pm and Saturdays 1:00–4:00 pm. Register: Saturday computer classes for beginners are held 1:30–2:30 pm. \nComputer use is a skill learned little by little. If you are stuck or need to learn how to accomplish something on the computer\, consider dropping in Tuesday evening or Saturday afternoon for assistance\, or registering for a Saturday class. \nFree Saturday classes for beginners require registration. Call the library at 570-752-2241 or register online HERE.
URL:https://mcbridelibrary.org/event/computer-assistance/2025-11-18/
LOCATION:Computer Lab
ATTACH;FMTTYPE=image/png:https://mcbridelibrary.org/wp-content/uploads/2025/08/Untitled-design-8.png
END:VEVENT
BEGIN:VEVENT
DTSTART;TZID=America/New_York:20251115T133000
DTEND;TZID=America/New_York:20251115T143000
DTSTAMP:20260423T073935
CREATED:20250827T001956Z
LAST-MODIFIED:20251227T220608Z
UID:10004739-1763213400-1763217000@mcbridelibrary.org
SUMMARY:Computer Class
DESCRIPTION:Drop in: Tuesdays 6:00–8:00 pm and Saturdays 1:00–4:00 pm. Register: Saturday computer classes for beginners are held 1:30–2:30 pm. \nComputer use is a skill learned little by little. If you are stuck or need to learn how to accomplish something on the computer\, consider dropping in Tuesday evening or Saturday afternoon for assistance\, or registering for a Saturday class. \nFree Saturday classes for beginners require registration. Call the library at 570-752-2241 or register online HERE.
URL:https://mcbridelibrary.org/event/computer-assistance-2/2025-11-15/
LOCATION:Computer Lab
ATTACH;FMTTYPE=image/png:https://mcbridelibrary.org/wp-content/uploads/2025/08/Untitled-design-8.png
END:VEVENT
BEGIN:VEVENT
DTSTART;TZID=America/New_York:20251111T180000
DTEND;TZID=America/New_York:20251111T200000
DTSTAMP:20260423T073935
CREATED:20250827T001251Z
LAST-MODIFIED:20251227T184522Z
UID:10004809-1762884000-1762891200@mcbridelibrary.org
SUMMARY:Computer Assistance
DESCRIPTION:Drop in: Tuesdays 6:00–8:00 pm and Saturdays 1:00–4:00 pm. Register: Saturday computer classes for beginners are held 1:30–2:30 pm. \nComputer use is a skill learned little by little. If you are stuck or need to learn how to accomplish something on the computer\, consider dropping in Tuesday evening or Saturday afternoon for assistance\, or registering for a Saturday class. \nFree Saturday classes for beginners require registration. Call the library at 570-752-2241 or register online HERE.
URL:https://mcbridelibrary.org/event/computer-assistance/2025-11-11/
LOCATION:Computer Lab
ATTACH;FMTTYPE=image/png:https://mcbridelibrary.org/wp-content/uploads/2025/08/Untitled-design-8.png
END:VEVENT
BEGIN:VEVENT
DTSTART;TZID=America/New_York:20251108T133000
DTEND;TZID=America/New_York:20251108T143000
DTSTAMP:20260423T073935
CREATED:20250827T001956Z
LAST-MODIFIED:20251227T220608Z
UID:10004738-1762608600-1762612200@mcbridelibrary.org
SUMMARY:Computer Class
DESCRIPTION:Drop in: Tuesdays 6:00–8:00 pm and Saturdays 1:00–4:00 pm. Register: Saturday computer classes for beginners are held 1:30–2:30 pm. \nComputer use is a skill learned little by little. If you are stuck or need to learn how to accomplish something on the computer\, consider dropping in Tuesday evening or Saturday afternoon for assistance\, or registering for a Saturday class. \nFree Saturday classes for beginners require registration. Call the library at 570-752-2241 or register online HERE.
URL:https://mcbridelibrary.org/event/computer-assistance-2/2025-11-08/
LOCATION:Computer Lab
ATTACH;FMTTYPE=image/png:https://mcbridelibrary.org/wp-content/uploads/2025/08/Untitled-design-8.png
END:VEVENT
BEGIN:VEVENT
DTSTART;TZID=America/New_York:20251104T180000
DTEND;TZID=America/New_York:20251104T200000
DTSTAMP:20260423T073935
CREATED:20250827T001251Z
LAST-MODIFIED:20251227T184522Z
UID:10004808-1762279200-1762286400@mcbridelibrary.org
SUMMARY:Computer Assistance
DESCRIPTION:Drop in: Tuesdays 6:00–8:00 pm and Saturdays 1:00–4:00 pm. Register: Saturday computer classes for beginners are held 1:30–2:30 pm. \nComputer use is a skill learned little by little. If you are stuck or need to learn how to accomplish something on the computer\, consider dropping in Tuesday evening or Saturday afternoon for assistance\, or registering for a Saturday class. \nFree Saturday classes for beginners require registration. Call the library at 570-752-2241 or register online HERE.
URL:https://mcbridelibrary.org/event/computer-assistance/2025-11-04/
LOCATION:Computer Lab
ATTACH;FMTTYPE=image/png:https://mcbridelibrary.org/wp-content/uploads/2025/08/Untitled-design-8.png
END:VEVENT
BEGIN:VEVENT
DTSTART;TZID=America/New_York:20251101T133000
DTEND;TZID=America/New_York:20251101T143000
DTSTAMP:20260423T073935
CREATED:20250827T001956Z
LAST-MODIFIED:20251227T220608Z
UID:10004737-1762003800-1762007400@mcbridelibrary.org
SUMMARY:Computer Class
DESCRIPTION:Drop in: Tuesdays 6:00–8:00 pm and Saturdays 1:00–4:00 pm. Register: Saturday computer classes for beginners are held 1:30–2:30 pm. \nComputer use is a skill learned little by little. If you are stuck or need to learn how to accomplish something on the computer\, consider dropping in Tuesday evening or Saturday afternoon for assistance\, or registering for a Saturday class. \nFree Saturday classes for beginners require registration. Call the library at 570-752-2241 or register online HERE.
URL:https://mcbridelibrary.org/event/computer-assistance-2/2025-11-01/
LOCATION:Computer Lab
ATTACH;FMTTYPE=image/png:https://mcbridelibrary.org/wp-content/uploads/2025/08/Untitled-design-8.png
END:VEVENT
BEGIN:VEVENT
DTSTART;TZID=America/New_York:20251028T180000
DTEND;TZID=America/New_York:20251028T200000
DTSTAMP:20260423T073935
CREATED:20250827T001251Z
LAST-MODIFIED:20251227T184522Z
UID:10004807-1761674400-1761681600@mcbridelibrary.org
SUMMARY:Computer Assistance
DESCRIPTION:Drop in: Tuesdays 6:00–8:00 pm and Saturdays 1:00–4:00 pm. Register: Saturday computer classes for beginners are held 1:30–2:30 pm. \nComputer use is a skill learned little by little. If you are stuck or need to learn how to accomplish something on the computer\, consider dropping in Tuesday evening or Saturday afternoon for assistance\, or registering for a Saturday class. \nFree Saturday classes for beginners require registration. Call the library at 570-752-2241 or register online HERE.
URL:https://mcbridelibrary.org/event/computer-assistance/2025-10-28/
LOCATION:Computer Lab
ATTACH;FMTTYPE=image/png:https://mcbridelibrary.org/wp-content/uploads/2025/08/Untitled-design-8.png
END:VEVENT
BEGIN:VEVENT
DTSTART;TZID=America/New_York:20251025T133000
DTEND;TZID=America/New_York:20251025T143000
DTSTAMP:20260423T073935
CREATED:20250827T001956Z
LAST-MODIFIED:20251227T220608Z
UID:10004736-1761399000-1761402600@mcbridelibrary.org
SUMMARY:Computer Class
DESCRIPTION:Drop in: Tuesdays 6:00–8:00 pm and Saturdays 1:00–4:00 pm. Register: Saturday computer classes for beginners are held 1:30–2:30 pm. \nComputer use is a skill learned little by little. If you are stuck or need to learn how to accomplish something on the computer\, consider dropping in Tuesday evening or Saturday afternoon for assistance\, or registering for a Saturday class. \nFree Saturday classes for beginners require registration. Call the library at 570-752-2241 or register online HERE.
URL:https://mcbridelibrary.org/event/computer-assistance-2/2025-10-25/
LOCATION:Computer Lab
ATTACH;FMTTYPE=image/png:https://mcbridelibrary.org/wp-content/uploads/2025/08/Untitled-design-8.png
END:VEVENT
BEGIN:VEVENT
DTSTART;TZID=America/New_York:20251021T180000
DTEND;TZID=America/New_York:20251021T200000
DTSTAMP:20260423T073935
CREATED:20250827T001251Z
LAST-MODIFIED:20251227T184522Z
UID:10004806-1761069600-1761076800@mcbridelibrary.org
SUMMARY:Computer Assistance
DESCRIPTION:Drop in: Tuesdays 6:00–8:00 pm and Saturdays 1:00–4:00 pm. Register: Saturday computer classes for beginners are held 1:30–2:30 pm. \nComputer use is a skill learned little by little. If you are stuck or need to learn how to accomplish something on the computer\, consider dropping in Tuesday evening or Saturday afternoon for assistance\, or registering for a Saturday class. \nFree Saturday classes for beginners require registration. Call the library at 570-752-2241 or register online HERE.
URL:https://mcbridelibrary.org/event/computer-assistance/2025-10-21/
LOCATION:Computer Lab
ATTACH;FMTTYPE=image/png:https://mcbridelibrary.org/wp-content/uploads/2025/08/Untitled-design-8.png
END:VEVENT
BEGIN:VEVENT
DTSTART;TZID=America/New_York:20251018T133000
DTEND;TZID=America/New_York:20251018T143000
DTSTAMP:20260423T073935
CREATED:20250827T001956Z
LAST-MODIFIED:20251227T220608Z
UID:10004735-1760794200-1760797800@mcbridelibrary.org
SUMMARY:Computer Class
DESCRIPTION:Drop in: Tuesdays 6:00–8:00 pm and Saturdays 1:00–4:00 pm. Register: Saturday computer classes for beginners are held 1:30–2:30 pm. \nComputer use is a skill learned little by little. If you are stuck or need to learn how to accomplish something on the computer\, consider dropping in Tuesday evening or Saturday afternoon for assistance\, or registering for a Saturday class. \nFree Saturday classes for beginners require registration. Call the library at 570-752-2241 or register online HERE.
URL:https://mcbridelibrary.org/event/computer-assistance-2/2025-10-18/
LOCATION:Computer Lab
ATTACH;FMTTYPE=image/png:https://mcbridelibrary.org/wp-content/uploads/2025/08/Untitled-design-8.png
END:VEVENT
BEGIN:VEVENT
DTSTART;TZID=America/New_York:20251014T180000
DTEND;TZID=America/New_York:20251014T200000
DTSTAMP:20260423T073935
CREATED:20250827T001251Z
LAST-MODIFIED:20251227T184522Z
UID:10004805-1760464800-1760472000@mcbridelibrary.org
SUMMARY:Computer Assistance
DESCRIPTION:Drop in: Tuesdays 6:00–8:00 pm and Saturdays 1:00–4:00 pm. Register: Saturday computer classes for beginners are held 1:30–2:30 pm. \nComputer use is a skill learned little by little. If you are stuck or need to learn how to accomplish something on the computer\, consider dropping in Tuesday evening or Saturday afternoon for assistance\, or registering for a Saturday class. \nFree Saturday classes for beginners require registration. Call the library at 570-752-2241 or register online HERE.
URL:https://mcbridelibrary.org/event/computer-assistance/2025-10-14/
LOCATION:Computer Lab
ATTACH;FMTTYPE=image/png:https://mcbridelibrary.org/wp-content/uploads/2025/08/Untitled-design-8.png
END:VEVENT
BEGIN:VEVENT
DTSTART;TZID=America/New_York:20251011T133000
DTEND;TZID=America/New_York:20251011T143000
DTSTAMP:20260423T073935
CREATED:20250827T001956Z
LAST-MODIFIED:20251227T220608Z
UID:10004734-1760189400-1760193000@mcbridelibrary.org
SUMMARY:Computer Class
DESCRIPTION:Drop in: Tuesdays 6:00–8:00 pm and Saturdays 1:00–4:00 pm. Register: Saturday computer classes for beginners are held 1:30–2:30 pm. \nComputer use is a skill learned little by little. If you are stuck or need to learn how to accomplish something on the computer\, consider dropping in Tuesday evening or Saturday afternoon for assistance\, or registering for a Saturday class. \nFree Saturday classes for beginners require registration. Call the library at 570-752-2241 or register online HERE.
URL:https://mcbridelibrary.org/event/computer-assistance-2/2025-10-11/
LOCATION:Computer Lab
ATTACH;FMTTYPE=image/png:https://mcbridelibrary.org/wp-content/uploads/2025/08/Untitled-design-8.png
END:VEVENT
BEGIN:VEVENT
DTSTART;TZID=America/New_York:20251007T180000
DTEND;TZID=America/New_York:20251007T200000
DTSTAMP:20260423T073935
CREATED:20250827T001251Z
LAST-MODIFIED:20251227T184522Z
UID:10004804-1759860000-1759867200@mcbridelibrary.org
SUMMARY:Computer Assistance
DESCRIPTION:Drop in: Tuesdays 6:00–8:00 pm and Saturdays 1:00–4:00 pm. Register: Saturday computer classes for beginners are held 1:30–2:30 pm. \nComputer use is a skill learned little by little. If you are stuck or need to learn how to accomplish something on the computer\, consider dropping in Tuesday evening or Saturday afternoon for assistance\, or registering for a Saturday class. \nFree Saturday classes for beginners require registration. Call the library at 570-752-2241 or register online HERE.
URL:https://mcbridelibrary.org/event/computer-assistance/2025-10-07/
LOCATION:Computer Lab
ATTACH;FMTTYPE=image/png:https://mcbridelibrary.org/wp-content/uploads/2025/08/Untitled-design-8.png
END:VEVENT
BEGIN:VEVENT
DTSTART;TZID=America/New_York:20251004T133000
DTEND;TZID=America/New_York:20251004T143000
DTSTAMP:20260423T073935
CREATED:20250827T001956Z
LAST-MODIFIED:20251227T220608Z
UID:10004733-1759584600-1759588200@mcbridelibrary.org
SUMMARY:Computer Class
DESCRIPTION:Drop in: Tuesdays 6:00–8:00 pm and Saturdays 1:00–4:00 pm. Register: Saturday computer classes for beginners are held 1:30–2:30 pm. \nComputer use is a skill learned little by little. If you are stuck or need to learn how to accomplish something on the computer\, consider dropping in Tuesday evening or Saturday afternoon for assistance\, or registering for a Saturday class. \nFree Saturday classes for beginners require registration. Call the library at 570-752-2241 or register online HERE.
URL:https://mcbridelibrary.org/event/computer-assistance-2/2025-10-04/
LOCATION:Computer Lab
ATTACH;FMTTYPE=image/png:https://mcbridelibrary.org/wp-content/uploads/2025/08/Untitled-design-8.png
END:VEVENT
BEGIN:VEVENT
DTSTART;TZID=America/New_York:20250930T180000
DTEND;TZID=America/New_York:20250930T200000
DTSTAMP:20260423T073935
CREATED:20250827T001251Z
LAST-MODIFIED:20251227T184522Z
UID:10004803-1759255200-1759262400@mcbridelibrary.org
SUMMARY:Computer Assistance
DESCRIPTION:Drop in: Tuesdays 6:00–8:00 pm and Saturdays 1:00–4:00 pm. Register: Saturday computer classes for beginners are held 1:30–2:30 pm. \nComputer use is a skill learned little by little. If you are stuck or need to learn how to accomplish something on the computer\, consider dropping in Tuesday evening or Saturday afternoon for assistance\, or registering for a Saturday class. \nFree Saturday classes for beginners require registration. Call the library at 570-752-2241 or register online HERE.
URL:https://mcbridelibrary.org/event/computer-assistance/2025-09-30/
LOCATION:Computer Lab
ATTACH;FMTTYPE=image/png:https://mcbridelibrary.org/wp-content/uploads/2025/08/Untitled-design-8.png
END:VEVENT
BEGIN:VEVENT
DTSTART;TZID=America/New_York:20250927T133000
DTEND;TZID=America/New_York:20250927T143000
DTSTAMP:20260423T073935
CREATED:20250827T001956Z
LAST-MODIFIED:20251227T220608Z
UID:10004732-1758979800-1758983400@mcbridelibrary.org
SUMMARY:Computer Class
DESCRIPTION:Drop in: Tuesdays 6:00–8:00 pm and Saturdays 1:00–4:00 pm. Register: Saturday computer classes for beginners are held 1:30–2:30 pm. \nComputer use is a skill learned little by little. If you are stuck or need to learn how to accomplish something on the computer\, consider dropping in Tuesday evening or Saturday afternoon for assistance\, or registering for a Saturday class. \nFree Saturday classes for beginners require registration. Call the library at 570-752-2241 or register online HERE.
URL:https://mcbridelibrary.org/event/computer-assistance-2/2025-09-27/
LOCATION:Computer Lab
ATTACH;FMTTYPE=image/png:https://mcbridelibrary.org/wp-content/uploads/2025/08/Untitled-design-8.png
END:VEVENT
BEGIN:VEVENT
DTSTART;TZID=America/New_York:20250923T180000
DTEND;TZID=America/New_York:20250923T200000
DTSTAMP:20260423T073935
CREATED:20250827T001251Z
LAST-MODIFIED:20251227T184522Z
UID:10004802-1758650400-1758657600@mcbridelibrary.org
SUMMARY:Computer Assistance
DESCRIPTION:Drop in: Tuesdays 6:00–8:00 pm and Saturdays 1:00–4:00 pm. Register: Saturday computer classes for beginners are held 1:30–2:30 pm. \nComputer use is a skill learned little by little. If you are stuck or need to learn how to accomplish something on the computer\, consider dropping in Tuesday evening or Saturday afternoon for assistance\, or registering for a Saturday class. \nFree Saturday classes for beginners require registration. Call the library at 570-752-2241 or register online HERE.
URL:https://mcbridelibrary.org/event/computer-assistance/2025-09-23/
LOCATION:Computer Lab
ATTACH;FMTTYPE=image/png:https://mcbridelibrary.org/wp-content/uploads/2025/08/Untitled-design-8.png
END:VEVENT
BEGIN:VEVENT
DTSTART;TZID=America/New_York:20250920T133000
DTEND;TZID=America/New_York:20250920T143000
DTSTAMP:20260423T073935
CREATED:20250827T001956Z
LAST-MODIFIED:20251227T220608Z
UID:10004731-1758375000-1758378600@mcbridelibrary.org
SUMMARY:Computer Class
DESCRIPTION:Drop in: Tuesdays 6:00–8:00 pm and Saturdays 1:00–4:00 pm. Register: Saturday computer classes for beginners are held 1:30–2:30 pm. \nComputer use is a skill learned little by little. If you are stuck or need to learn how to accomplish something on the computer\, consider dropping in Tuesday evening or Saturday afternoon for assistance\, or registering for a Saturday class. \nFree Saturday classes for beginners require registration. Call the library at 570-752-2241 or register online HERE.
URL:https://mcbridelibrary.org/event/computer-assistance-2/2025-09-20/
LOCATION:Computer Lab
ATTACH;FMTTYPE=image/png:https://mcbridelibrary.org/wp-content/uploads/2025/08/Untitled-design-8.png
END:VEVENT
BEGIN:VEVENT
DTSTART;TZID=America/New_York:20250916T180000
DTEND;TZID=America/New_York:20250916T200000
DTSTAMP:20260423T073935
CREATED:20250827T001251Z
LAST-MODIFIED:20251227T184522Z
UID:10004801-1758045600-1758052800@mcbridelibrary.org
SUMMARY:Computer Assistance
DESCRIPTION:Drop in: Tuesdays 6:00–8:00 pm and Saturdays 1:00–4:00 pm. Register: Saturday computer classes for beginners are held 1:30–2:30 pm. \nComputer use is a skill learned little by little. If you are stuck or need to learn how to accomplish something on the computer\, consider dropping in Tuesday evening or Saturday afternoon for assistance\, or registering for a Saturday class. \nFree Saturday classes for beginners require registration. Call the library at 570-752-2241 or register online HERE.
URL:https://mcbridelibrary.org/event/computer-assistance/2025-09-16/
LOCATION:Computer Lab
ATTACH;FMTTYPE=image/png:https://mcbridelibrary.org/wp-content/uploads/2025/08/Untitled-design-8.png
END:VEVENT
BEGIN:VEVENT
DTSTART;TZID=America/New_York:20250913T133000
DTEND;TZID=America/New_York:20250913T143000
DTSTAMP:20260423T073935
CREATED:20250827T001956Z
LAST-MODIFIED:20251227T220608Z
UID:10004730-1757770200-1757773800@mcbridelibrary.org
SUMMARY:Computer Class
DESCRIPTION:Drop in: Tuesdays 6:00–8:00 pm and Saturdays 1:00–4:00 pm. Register: Saturday computer classes for beginners are held 1:30–2:30 pm. \nComputer use is a skill learned little by little. If you are stuck or need to learn how to accomplish something on the computer\, consider dropping in Tuesday evening or Saturday afternoon for assistance\, or registering for a Saturday class. \nFree Saturday classes for beginners require registration. Call the library at 570-752-2241 or register online HERE.
URL:https://mcbridelibrary.org/event/computer-assistance-2/2025-09-13/
LOCATION:Computer Lab
ATTACH;FMTTYPE=image/png:https://mcbridelibrary.org/wp-content/uploads/2025/08/Untitled-design-8.png
END:VEVENT
BEGIN:VEVENT
DTSTART;TZID=America/New_York:20250909T180000
DTEND;TZID=America/New_York:20250909T200000
DTSTAMP:20260423T073935
CREATED:20250827T001251Z
LAST-MODIFIED:20251227T184522Z
UID:10004800-1757440800-1757448000@mcbridelibrary.org
SUMMARY:Computer Assistance
DESCRIPTION:Drop in: Tuesdays 6:00–8:00 pm and Saturdays 1:00–4:00 pm. Register: Saturday computer classes for beginners are held 1:30–2:30 pm. \nComputer use is a skill learned little by little. If you are stuck or need to learn how to accomplish something on the computer\, consider dropping in Tuesday evening or Saturday afternoon for assistance\, or registering for a Saturday class. \nFree Saturday classes for beginners require registration. Call the library at 570-752-2241 or register online HERE.
URL:https://mcbridelibrary.org/event/computer-assistance/2025-09-09/
LOCATION:Computer Lab
ATTACH;FMTTYPE=image/png:https://mcbridelibrary.org/wp-content/uploads/2025/08/Untitled-design-8.png
END:VEVENT
BEGIN:VEVENT
DTSTART;TZID=America/New_York:20250906T133000
DTEND;TZID=America/New_York:20250906T143000
DTSTAMP:20260423T073935
CREATED:20250827T001956Z
LAST-MODIFIED:20251227T220608Z
UID:10004729-1757165400-1757169000@mcbridelibrary.org
SUMMARY:Computer Class
DESCRIPTION:Drop in: Tuesdays 6:00–8:00 pm and Saturdays 1:00–4:00 pm. Register: Saturday computer classes for beginners are held 1:30–2:30 pm. \nComputer use is a skill learned little by little. If you are stuck or need to learn how to accomplish something on the computer\, consider dropping in Tuesday evening or Saturday afternoon for assistance\, or registering for a Saturday class. \nFree Saturday classes for beginners require registration. Call the library at 570-752-2241 or register online HERE.
URL:https://mcbridelibrary.org/event/computer-assistance-2/2025-09-06/
LOCATION:Computer Lab
ATTACH;FMTTYPE=image/png:https://mcbridelibrary.org/wp-content/uploads/2025/08/Untitled-design-8.png
END:VEVENT
BEGIN:VEVENT
DTSTART;TZID=America/New_York:20250902T180000
DTEND;TZID=America/New_York:20250902T200000
DTSTAMP:20260423T073935
CREATED:20250827T001251Z
LAST-MODIFIED:20251227T184522Z
UID:10004799-1756836000-1756843200@mcbridelibrary.org
SUMMARY:Computer Assistance
DESCRIPTION:Drop in: Tuesdays 6:00–8:00 pm and Saturdays 1:00–4:00 pm. Register: Saturday computer classes for beginners are held 1:30–2:30 pm. \nComputer use is a skill learned little by little. If you are stuck or need to learn how to accomplish something on the computer\, consider dropping in Tuesday evening or Saturday afternoon for assistance\, or registering for a Saturday class. \nFree Saturday classes for beginners require registration. Call the library at 570-752-2241 or register online HERE.
URL:https://mcbridelibrary.org/event/computer-assistance/2025-09-02/
LOCATION:Computer Lab
ATTACH;FMTTYPE=image/png:https://mcbridelibrary.org/wp-content/uploads/2025/08/Untitled-design-8.png
END:VEVENT
END:VCALENDAR